BEGIN:VCALENDAR
VERSION:2.0
PRODID:-//ChamberMaster//Event Calendar 2.0//EN
METHOD:PUBLISH
X-PUBLISHED-TTL:P3D
REFRESH-INTERVAL:P3D
CALSCALE:GREGORIAN
BEGIN:VEVENT
DTSTART:20170912T163000Z
DTEND:20170912T180000Z
X-MICROSOFT-CDO-ALLDAYEVENT:FALSE
SUMMARY:Exeuctive Board of Directors Meeting
DESCRIPTION:Chamber Executive Board of Directors Monthly Meeting
X-ALT-DESC;FMTTYPE=text/html:Chamber Executive Board of Directors Monthly Meeting<br />\n&nbsp\;
LOCATION:Chamber of Commerce Conference Room 121 S. Main Street\, Boerne\, TX 78006
UID:e.187.5502
SEQUENCE:3
DTSTAMP:20260422T213054Z
URL:https://business.boerne.org/events/details/exeuctive-board-of-directors-meeting-5502
END:VEVENT

END:VCALENDAR
