BEGIN:VCALENDAR
VERSION:2.0
PRODID:-//ChamberMaster//Event Calendar 2.0//EN
METHOD:PUBLISH
X-PUBLISHED-TTL:P3D
REFRESH-INTERVAL:P3D
CALSCALE:GREGORIAN
BEGIN:VEVENT
DTSTART:20181005T190000Z
DTEND:20181005T200000Z
X-MICROSOFT-CDO-ALLDAYEVENT:FALSE
SUMMARY:Executive Committee Meeting
DESCRIPTION:Executive Committee meeting.
X-ALT-DESC;FMTTYPE=text/html:Executive Committee meeting.
LOCATION:Greater Boerne Chamber of Commerce conference room.
UID:e.187.13667
SEQUENCE:3
DTSTAMP:20260420T012508Z
URL:https://business.boerne.org/events/details/executive-committee-meeting-13667
END:VEVENT

END:VCALENDAR
