BEGIN:VCALENDAR
VERSION:2.0
PRODID:-//ChamberMaster//Event Calendar 2.0//EN
METHOD:PUBLISH
X-PUBLISHED-TTL:P3D
REFRESH-INTERVAL:P3D
CALSCALE:GREGORIAN
BEGIN:VEVENT
DTSTART:20180405T200000Z
DTEND:20180405T213000Z
X-MICROSOFT-CDO-ALLDAYEVENT:FALSE
SUMMARY:Executive Committee Meeting
DESCRIPTION:Executive Committee Meeting
X-ALT-DESC;FMTTYPE=text/html:Executive Committee Meeting
LOCATION:Boerne Chamber Conference Room 121 S. Main St.\, Boerne\, TX 78006
UID:e.187.13486
SEQUENCE:3
DTSTAMP:20260422T120528Z
URL:https://business.boerne.org/events/details/executive-committee-meeting-13486
END:VEVENT

END:VCALENDAR
