BEGIN:VCALENDAR
VERSION:2.0
PRODID:-//ChamberMaster//Event Calendar 2.0//EN
METHOD:PUBLISH
X-PUBLISHED-TTL:P3D
REFRESH-INTERVAL:P3D
CALSCALE:GREGORIAN
BEGIN:VEVENT
DTSTART:20171027T200000Z
DTEND:20171027T210000Z
X-MICROSOFT-CDO-ALLDAYEVENT:FALSE
SUMMARY:Executive Board of Directors Meeting
DESCRIPTION:Executive Board of Director's Meeting\n\non Membership Drive
X-ALT-DESC;FMTTYPE=text/html:Executive Board of Director&#39\;s Meeting<br />\non Membership Drive
LOCATION:Boerne Chamber of Commerce Conference Room 121 S. Main St.\, Boerne\, TX 78006
UID:e.187.12040
SEQUENCE:3
DTSTAMP:20260422T195254Z
URL:https://business.boerne.org/events/details/executive-board-of-directors-meeting-12040
END:VEVENT

END:VCALENDAR
