BEGIN:VCALENDAR
VERSION:2.0
PRODID:-//ChamberMaster//Event Calendar 2.0//EN
METHOD:PUBLISH
X-PUBLISHED-TTL:P3D
REFRESH-INTERVAL:P3D
CALSCALE:GREGORIAN
BEGIN:VEVENT
DTSTART:20180301T210000Z
DTEND:20180301T220000Z
X-MICROSOFT-CDO-ALLDAYEVENT:FALSE
SUMMARY:Executive Board of Directors Meeting
DESCRIPTION:Chamber Executive Board of Directors Monthly Meeting
X-ALT-DESC;FMTTYPE=text/html:Chamber Executive Board of Directors Monthly Meeting
LOCATION:Chamber of Commerce Conference Room 121 S. Main Street\, Boerne\, TX 78006
UID:e.187.5508
SEQUENCE:3
DTSTAMP:20260422T120935Z
URL:https://business.boerne.org/events/details/executive-board-of-directors-meeting-03-13-2018-5508
END:VEVENT

END:VCALENDAR
