BEGIN:VCALENDAR
VERSION:2.0
PRODID:-//ChamberMaster//Event Calendar 2.0//EN
METHOD:PUBLISH
X-PUBLISHED-TTL:P3D
REFRESH-INTERVAL:P3D
CALSCALE:GREGORIAN
BEGIN:VEVENT
DTSTART:20180508T133000Z
DTEND:20180508T143000Z
X-MICROSOFT-CDO-ALLDAYEVENT:FALSE
SUMMARY:Employee Attraction and Retention Workshop Presented by Texas Business Buyers
DESCRIPTION:How to build a great team by developing\, retaining and attracting great talent and removing toxic employees?\n\n \n\nOne of the biggest challenges any business faces is their employees.  Owners often get so discourage and can begin to think that all of the best candidates are out of reach.  Companies can find themselves on the brink of closing the doors because of the wrong team members. Even if you are financially healthy\, owners often are carrying so much of the burden of their business that their own health and family suffer.\n\n \n\nIt doesn't have to be this way there are simple things you can do to improve your team. \n\n \n\nThis will be one of the most important topic we will cover this year. \n\n \n\nHere are some of the topics we will be covering in this month's Building Business Value Series.\n\nWhat are the steps you must take before hiring a new employee?\n\nDeveloping a culture that will transform your business.\n\nHow to engage team members in success?\n\nHow do you fire the wrong employees?\n\n \n\n You will leave with information you can implement in your business.\n\n \n\nJoin us every month for the Building Business Value Breakfast Series 2nd Tuesday every month 8:30 AM.\n\n \n\nPresenter\n\nRobert Upton has business ownership\, management and sales backgrounds and have consulted businesses from a large variety of industries.  Robert is an independent advisor with Texas Business Buyers\, a leading Texas firm that specializes in small business transactions and has 100% success record for selling the businesses they have represented for 98.5% of asking price.  They also have over 1\,000 active business buyers in their network.\n\n\n\nConnect with Robert Upton on LinkedIn.
X-ALT-DESC;FMTTYPE=text/html:<em><strong><span style="color:black\;"><span style="font-family:arial\,sans-serif\;">How to build a great team by developing\, retaining and attracting great talent and removing toxic employees?</span></span></strong></em><br />\n&nbsp\;<br />\n<span style="font-size:14px\;"><span style="font-family:times new roman\;"><span style="color:black\;">One of the biggest challenges any business faces is their employees.&nbsp\; Owners often get so discourage and can begin to think that all of the best candidates are out of reach.&nbsp\; Companies can find themselves on the brink of closing the doors because of the wrong team members. Even if you are financially healthy\, owners often are carrying so much of the burden of their business that their own health and family suffer.</span><br />\n&nbsp\;<br />\n<span style="color:black\;">It doesn&rsquo\;t have to be this way there are simple things you can do to improve your team. </span><br />\n&nbsp\;<br />\n<span style="color:black\;">This will be one of the most important topic we will cover this year. </span><br />\n&nbsp\;<br />\n<span style="color:black\;">Here are some of the topics we will be covering in this month&rsquo\;s Building Business Value Series.</span><br />\n<span style="color:black\;">What are the steps you <u>must</u> take before hiring a new employee?</span><br />\n<span style="color:black\;">Developing a culture that will transform your business.</span><br />\n<span style="color:black\;">How to engage team members in success?</span><br />\n<span style="color:black\;">How do you fire the wrong employees?</span><br />\n&nbsp\;<br />\n<span style="color:black\;">&nbsp\;You will leave with information you can implement in your business.</span><br />\n&nbsp\;<br />\n<span style="color:black\;">Join us every month for the Building Business Value Breakfast Series 2nd Tuesday every month 8:30 AM.</span><br />\n&nbsp\;<br />\n<span style="color:black\;">Presenter</span><br />\n<span style="color:black\;">Robert Upton has business ownership\, management and sales backgrounds and have consulted businesses from a large variety of industries.&nbsp\; Robert is an independent advisor with Texas Business<span style="background-image:initial\;background-position:initial\;background-size:initial\;background-repeat:initial\;background-attachment:initial\;background-origin:initial\;background-clip:initial\;"> Buyers\, a leading Texas firm that specializes in small business transactions and has 100% success record for selling the businesses they have represented for 98.5% of asking price.&nbsp\; They also have over 1\,000 active business buyers in their network.</span></span><br />\n<br />\n<span style="color:black\;">Connect with Robert Upton on </span><a href="https://www.linkedin.com/in/robert-upton-b7076235" target="_blank"><span style="color:#1155CC\;">LinkedIn</span></a><span style="color:black\;">.</span></span></span>
LOCATION:Boardroom
UID:e.187.11966
SEQUENCE:3
DTSTAMP:20260420T093509Z
URL:https://business.boerne.org/events/details/employee-attraction-and-retention-workshop-presented-by-texas-business-buyers-11966
END:VEVENT

END:VCALENDAR
