BEGIN:VCALENDAR
VERSION:2.0
PRODID:-//ChamberMaster//Event Calendar 2.0//EN
METHOD:PUBLISH
X-PUBLISHED-TTL:P3D
REFRESH-INTERVAL:P3D
CALSCALE:GREGORIAN
BEGIN:VEVENT
DTSTART:20260326T230000Z
DTEND:20260327T000000Z
X-MICROSOFT-CDO-ALLDAYEVENT:FALSE
SUMMARY:Elara Skin Soiree - Guided Facials at the Skin Bar
DESCRIPTION:Join Elara Aesthetics & Boutique for the sweetest little skincare soir e inside their signature skincare bar on River Road on Thursday\, March 26th\, 6-7PM!      \n\nThis is a hands-on skin ritual led by licensed aesthetician\, Michelle Hoyt\, using clinical-grade products designed to teach you how to care for your skin with intention\, strategy\, and confidence. As you settle into the evening\, silver trays will circulate with Xtresse hair gummies (beauty from within)\, alongside petite spring sweets and curated sips. To finish\, you'll select your dessert-inspired Anfisa gloss   Berry Crumble or Angel Food for the sweetest touch of shine.\n\nExpect soft lighting\, glowing skin\, elevated girl talk\, and a glam-but-cozy atmosphere that feels like the ultimate self-care treat.  \n\nLimited seating for a more personal experience. $85 per guest. Reserve your seat by calling 830.357.5007 or learn more here! \n\nGrab your besties and come get your glow on!
X-ALT-DESC;FMTTYPE=text/html:Join Elara Aesthetics &amp\; Boutique for the sweetest little skincare soir&eacute\;e inside their signature skincare bar on River Road on Thursday\, March 26th\, 6-7PM! <span style="font-family:segoe ui emoji\,sans-serif\;">&#128150\;&#128134\;&zwj\;&#9792\;&#65039\;</span><br />\nThis is a hands-on skin ritual led by licensed aesthetician\, Michelle Hoyt\, using clinical-grade products designed to teach you how to care for your skin with intention\, strategy\, and confidence. As you settle into the evening\, silver trays will circulate with Xtresse hair gummies (beauty from within)\, alongside petite spring sweets and curated sips. To finish\, you&rsquo\;ll select your dessert-inspired Anfisa gloss &mdash\; Berry Crumble or Angel Food for the sweetest touch of shine.<br />\nExpect soft lighting\, glowing skin\, elevated girl talk\, and a glam-but-cozy atmosphere that feels like the ultimate self-care treat. <span style="font-family:segoe ui emoji\,sans-serif\;">&#127800\;</span><br />\nLimited seating for a more personal experience. $85 per guest. Reserve your seat by calling 830.357.5007 or <u><strong><a href="https://checkout.square.site/merchant/8WGEZSDEGZJQJ/checkout/7AXGDRCU5DNG7EABEMOVMQF3?fbclid=IwY2xjawQUS8lleHRuA2FlbQIxMABicmlkETFmQ1J2SkRTZnNvWldrYk5Rc3J0YwZhcHBfaWQQMjIyMDM5MTc4ODIwMDg5MgABHm7csYNt1mxjE3NLFOhzWvm5j3PsdipFihASIcr_6aPTK16RabpnHLlN_yEr_aem_ptQqvnveetAC1o4vb1pOyw">learn more here!&nbsp\;</a></strong></u><br />\nGrab your besties and come get your glow on! <span style="font-family:segoe ui emoji\,sans-serif\;">&#10024\;&#128139\;</span>
LOCATION:Elara Aesthetics & Boutique 612 River Rd. Boerne\, TX 78006
UID:e.187.32286
SEQUENCE:3
DTSTAMP:20260420T070654Z
URL:https://business.boerne.org/events/details/elara-skin-soiree-guided-facials-at-the-skin-bar-32286
END:VEVENT

END:VCALENDAR
