BEGIN:VCALENDAR
VERSION:2.0
PRODID:-//ChamberMaster//Event Calendar 2.0//EN
METHOD:PUBLISH
X-PUBLISHED-TTL:P3D
REFRESH-INTERVAL:P3D
CALSCALE:GREGORIAN
BEGIN:VEVENT
DTSTART:20260327T213000Z
DTEND:20260327T230000Z
X-MICROSOFT-CDO-ALLDAYEVENT:FALSE
SUMMARY:Easter Egg Hunt at Care Choice of Boerne
DESCRIPTION:SAVE THE DATE!   \n\nCare Choice of Boerne's Annual Easter Egg Hunt will take place on Friday\, March 27th at 4:30 PM. Get ready for a hopping good time!    You don't want to miss out on this annual Easter Egg Hunt filled with fun\, laughter\, sweet treats\, and springtime surprises! Bring your baskets and your biggest smiles!  \n\n  Location: Care Choice of Boerne - 200 Ryan St. Boerne\, TX 78006
X-ALT-DESC;FMTTYPE=text/html:<span style="font-family:segoe ui emoji\,sans-serif\;">&#128048\;&#127800\;</span> SAVE THE DATE! <span style="font-family:segoe ui emoji\,sans-serif\;">&#127800\;&#128048\;</span><br />\nCare Choice of Boerne&#39\;s Annual Easter Egg Hunt will take place on Friday\, March 27th at 4:30 PM. Get ready for a hopping good time! <span style="font-family:segoe ui emoji\,sans-serif\;">&#129370\;&#10024\;</span> You don&#39\;t want to miss out on this annual Easter Egg Hunt filled with fun\, laughter\, sweet treats\, and springtime surprises! Bring your baskets and your biggest smiles! <span style="font-family:segoe ui emoji\,sans-serif\;">&#128155\;</span><br />\n<span style="font-family:segoe ui emoji\,sans-serif\;">&#128205\;</span> Location: Care Choice of Boerne - 200 Ryan St. Boerne\, TX 78006
LOCATION:Care Choice of Boerne 200 Ryan St. Boerne\, TX 78006
UID:e.187.32271
SEQUENCE:3
DTSTAMP:20260420T070538Z
URL:https://business.boerne.org/events/details/easter-egg-hunt-at-care-choice-of-boerne-32271
END:VEVENT

END:VCALENDAR
