BEGIN:VCALENDAR
VERSION:2.0
PRODID:-//ChamberMaster//Event Calendar 2.0//EN
METHOD:PUBLISH
X-PUBLISHED-TTL:P3D
REFRESH-INTERVAL:P3D
CALSCALE:GREGORIAN
BEGIN:VEVENT
DTSTART:20180629T223000Z
DTEND:20180629T233000Z
X-MICROSOFT-CDO-ALLDAYEVENT:FALSE
SUMMARY:Downtown Alliance Focus group
DESCRIPTION:Focus Group Meeting for the Boerne Downtown Alliance
X-ALT-DESC;FMTTYPE=text/html:Focus Group Meeting for the Boerne Downtown Alliance
LOCATION:Boerne Chamber of Commerce Conference Room 121 S. Main St.\, Boerne\, TX 78006
UID:e.187.13968
SEQUENCE:3
DTSTAMP:20260420T074157Z
URL:https://business.boerne.org/events/details/downtown-alliance-focus-group-13968
END:VEVENT

END:VCALENDAR
