BEGIN:VCALENDAR
VERSION:2.0
PRODID:-//ChamberMaster//Event Calendar 2.0//EN
METHOD:PUBLISH
X-PUBLISHED-TTL:P3D
REFRESH-INTERVAL:P3D
CALSCALE:GREGORIAN
BEGIN:VEVENT
DTSTART:20191020T013000Z
DTEND:20191020T033000Z
X-MICROSOFT-CDO-ALLDAYEVENT:FALSE
SUMMARY:Dog & Pony presents The Damn Torpedoes
DESCRIPTION:Come celebrate the life and music of the late\, great Tom Petty! Tickets are available through Eventbrite now! Doors open at 6:30 pm Jade Marie Patek opens from 7-8 pm The Damn Torpedoes - A Tribute to Tom Petty and the Heartbreakers headline from 8:30-10:30 pm.
X-ALT-DESC;FMTTYPE=text/html:Come celebrate the life and music of the late\, great Tom Petty! Tickets are available through Eventbrite now! Doors open at 6:30 pm Jade Marie Patek opens from 7-8 pm The Damn Torpedoes - A Tribute to Tom Petty and the Heartbreakers headline from 8:30-10:30 pm.
LOCATION:Dog and Pony Grill 1481 S Main St\, Boerne\, Texas 78006
UID:e.187.16791
SEQUENCE:3
DTSTAMP:20260419T191822Z
URL:https://business.boerne.org/events/details/dog-pony-presents-the-damn-torpedoes-16791
END:VEVENT

END:VCALENDAR
