BEGIN:VCALENDAR
VERSION:2.0
PRODID:-//ChamberMaster//Event Calendar 2.0//EN
METHOD:PUBLISH
X-PUBLISHED-TTL:P3D
REFRESH-INTERVAL:P3D
CALSCALE:GREGORIAN
BEGIN:VEVENT
DTSTART:20250410T220000Z
DTEND:20250411T020000Z
X-MICROSOFT-CDO-ALLDAYEVENT:FALSE
SUMMARY:Diva Spring Fling presented by McRae MD Medical Laser Center
DESCRIPTION:Get ready for the best girls night out on the Hill Country Mile! Diva Spring Fling in Boerne will be Thursday\, April 10th from 5-9 pm. Major thanks to this year's presenting sponsor\, McRae MD Medical Laser Center! This always popular evening will be bursting with everything you love from your favorite shops and restaurants\, including later shopping hours\, cocktails\, delicious bites\, music\, and more. Join the Boerne Chamber and the Boerne Retail and Restaurant Owners association for the perfect night out with friends and your favorite local businesses!\n\n\n\nThe first 600 attendees will get a free Fiesta flower crown\, reusable swag bag\, and map upon check-in at one of our two check-in locations: Main Plaza and Gunpowder and Cabernet. We can't wait to see you!\n\n\n\nThank you to our amazing event sponsors:\n\n	Presenting Sponsor - McRae MD Medical Laser Center\n	T-shirt Sponsor - Olde Town Plumbing\n	Bag Sponsor - Enrich Health and Wellness\n	Media Sponsor - Ranch Radio Marketing Group\n	Photo and Video Sponsor - The Heights Plastic Surgery Med Spa\n	Decor Sponsor - Merle Norman Cosmetics and Face Time Spa\n	Official Men's Drop Off Location: The Oak of Boerne\n	Glitter Sponsors - CRU Rentals\, Fair Oaks Emergency Room\, Hill Country Animal League & Thrift Store\, Phyllis Browning Company\, Singing Water Vineyards\n	Shopping Trail Sponsor - Finishing Touches Interior Design\, Heather Stolle's School of Dance\n\n If you're interested in participating as a vendor or sponsoring this event\, please email steely@boerne.org.\n\n\n\nOfficial participating stores and restaurants include:\n\n\n\n259 Brantley's Bistro\n\nAlene's Boutique\n\nAssemble Cocktail Workshop\n\nThe Boerne Bookshop\n\nBombshell Boutique (plaza)\n\nBranded J\n\nCamp Bar\n\nCalamity Jane's Trading Company\n\nCeleste\n\nCharming Decor Creations (plaza)\n\nCielo\n\nThe Christmas Shoppe\n\nCorner Cartel\n\nCRU Rentals (plaza)\n\nThe Dienger Trading Company\n\nElla Blue\n\nEnrich Health and Wellness (plaza)\n\nEyes on Main (plaza)\n\nFair Oaks Emergency Room (plaza)\n\nFree Roam Brewing Company\n\nGuardian Angel Vacations (plaza)\n\nGunpowder and Cabernet (Check-in)\n\nHandmade on Main (plaza)\n\nHey Love\n\nHill Country Animal League & Thrift Store (plaza)\n\niCRYO Boerne (plaza)\n\nIsland Tumeric\n\nJ. Forks Designs\n\nJabz Boxing Leon Springs (plaza)\n\nJoli Boutique\n\nLaTe Da\n\nLaurie Saunders\n\nLennElla Design Co. (plaza)\n\nLongevity Pilates (plaza)\n\nLost Oak Cellars Boerne\n\nLulu-Bell's\n\nMainly Vintage\n\nMcRae MD Medical Laser Spa (plaza)\n\nMerle Norman Cosmetics (plaza)\n\nNative Blends BTX (plaza)\n\nThe Oak of Boerne - Official Men's Drop Off Location\n\nOf A Muse\n\nOlde Town Plumbing (plaza)\n\nThe Pearl Antler\n\nPearl Periodontics (plaza)\n\nPhyllis Browning Company (plaza)\n\nPixie\n\nReal Fashion Boutique\n\nThe Red Rooster\n\nRoc-N-Ritas\n\nThe Sanctuary\n\nShoegroove\n\nSinging Water Vineyards (plaza)\n\nThe Shoppes at 222\n\nSugar Sugar (plaza)\n\nTexas Gourmet Pantry\n\nTexas Treasures Fine Jewelry\n\nTexican Cooks (plaza)\n\nTraditions at the Depot\n\nTre Pizzeria\n\nTusculum Brewery \n\nTwo Trick Pony\n\nUptown Chic
X-ALT-DESC;FMTTYPE=text/html:<span style="color:#000000\;"><strong>Get ready for the best girls night out on the Hill Country Mile! </strong>Diva Spring Fling in Boerne will be Thursday\, April 10th from 5-9 pm. Major thanks to this year&#39\;s presenting sponsor\, McRae MD Medical Laser Center! This always popular evening will be bursting with everything you love from your favorite shops and restaurants\, including later shopping hours\, cocktails\, delicious bites\, music\, and more. Join the Boerne Chamber and the Boerne Retail and Restaurant Owners association for the perfect night out with friends and your favorite local businesses!<br />\n<br />\nThe first 600 attendees will get a free Fiesta flower crown\, reusable swag bag\, and map upon check-in at one of our two check-in locations: Main Plaza and Gunpowder and Cabernet. We can&#39\;t wait to see you!<br />\n<br />\nThank you to our amazing event sponsors:</span>\n<ul>\n	<li><span style="color:#000000\;">Presenting Sponsor - McRae MD Medical Laser Center</span></li>\n	<li><span style="color:#000000\;">T-shirt Sponsor - Olde Town Plumbing</span></li>\n	<li><span style="color:#000000\;">Bag Sponsor - Enrich Health and Wellness</span></li>\n	<li><span style="color:#000000\;">Media Sponsor - Ranch Radio Marketing Group</span></li>\n	<li><span style="color:#000000\;">Photo and Video Sponsor - The Heights Plastic Surgery&nbsp\;Med Spa</span></li>\n	<li><span style="color:#000000\;">Decor Sponsor - Merle Norman Cosmetics and Face Time Spa</span></li>\n	<li><span style="color:#000000\;">Official Men&#39\;s Drop Off Location: The Oak of Boerne</span></li>\n	<li><span style="color:#000000\;">Glitter Sponsors - CRU Rentals\, Fair Oaks Emergency Room\, Hill Country Animal League &amp\; Thrift Store\, Phyllis Browning Company\, Singing Water Vineyards</span></li>\n	<li><span style="color:#000000\;">Shopping Trail Sponsor - Finishing Touches Interior Design\, Heather Stolle&#39\;s School of Dance</span></li>\n</ul>\n<span style="color:#000000\;"> If you&#39\;re interested in participating as a vendor or sponsoring this event\, please email</span> <a href="mailto:steely@boerne.org">steely@boerne.org</a>.<br />\n<br />\n<span style="color:#000000\;">Official participating stores and restaurants include:<br />\n<br />\n259 Brantley&#39\;s Bistro<br />\nAlene&#39\;s Boutique<br />\nAssemble Cocktail Workshop<br />\nThe Boerne Bookshop<br />\nBombshell Boutique (plaza)<br />\nBranded J<br />\nCamp Bar<br />\nCalamity Jane&#39\;s Trading Company<br />\nCeleste<br />\nCharming Decor Creations (plaza)<br />\nCielo<br />\nThe Christmas Shoppe<br />\nCorner Cartel<br />\nCRU Rentals (plaza)<br />\nThe Dienger Trading Company<br />\nElla Blue<br />\nEnrich Health and Wellness (plaza)<br />\nEyes on Main (plaza)<br />\nFair Oaks Emergency Room (plaza)<br />\nFree Roam Brewing Company<br />\nGuardian Angel Vacations (plaza)<br />\nGunpowder and Cabernet (Check-in)<br />\nHandmade on Main (plaza)<br />\nHey Love<br />\nHill Country Animal League &amp\; Thrift Store (plaza)<br />\niCRYO Boerne (plaza)<br />\nIsland Tumeric<br />\nJ. Forks Designs<br />\nJabz Boxing Leon Springs (plaza)<br />\nJoli Boutique<br />\nLaTe Da<br />\nLaurie Saunders<br />\nLennElla Design Co. (plaza)<br />\nLongevity Pilates (plaza)<br />\nLost Oak Cellars Boerne<br />\nLulu-Bell&#39\;s<br />\nMainly Vintage<br />\nMcRae MD Medical Laser Spa (plaza)<br />\nMerle Norman Cosmetics (plaza)<br />\nNative Blends BTX (plaza)<br />\nThe Oak of Boerne - Official Men&#39\;s Drop Off Location<br />\nOf A Muse<br />\nOlde Town Plumbing (plaza)<br />\nThe Pearl Antler<br />\nPearl Periodontics (plaza)<br />\nPhyllis Browning Company (plaza)<br />\nPixie<br />\nReal Fashion Boutique<br />\nThe Red Rooster<br />\nRoc-N-Ritas<br />\nThe Sanctuary<br />\nShoegroove<br />\nSinging Water Vineyards (plaza)<br />\nThe Shoppes at 222<br />\nSugar Sugar (plaza)<br />\nTexas Gourmet Pantry<br />\nTexas Treasures Fine Jewelry<br />\nTexican Cooks (plaza)<br />\nTraditions at the Depot<br />\nTre Pizzeria<br />\nTusculum Brewery&nbsp\;<br />\nTwo Trick Pony<br />\nUptown Chic</span>
LOCATION:
UID:e.187.29109
SEQUENCE:3
DTSTAMP:20260419T143615Z
URL:https://business.boerne.org/events/details/diva-spring-fling-presented-by-mcrae-md-medical-laser-center-29109
END:VEVENT

END:VCALENDAR
