BEGIN:VCALENDAR
VERSION:2.0
PRODID:-//ChamberMaster//Event Calendar 2.0//EN
METHOD:PUBLISH
X-PUBLISHED-TTL:P3D
REFRESH-INTERVAL:P3D
CALSCALE:GREGORIAN
BEGIN:VEVENT
DTSTART:20260409T220000Z
DTEND:20260410T020000Z
X-MICROSOFT-CDO-ALLDAYEVENT:FALSE
SUMMARY:Diva Spring Fling presented by McRae MD Medical Laser Center
DESCRIPTION:**This is a rain or shine event!**\n\n\n\nGet ready for the best girls night out on the Hill Country Mile! Diva Spring Fling in Boerne will be Thursday\, April 9th from 5-9 pm. Major thanks to this year's presenting sponsor\, McRae MD Medical Laser Center! This always popular evening will be bursting with everything you love from your favorite shops and restaurants\, including later shopping hours\, cocktails\, delicious bites\, music\, and more. Join the Boerne Chamber and the Boerne Retail and Restaurant Owners association for the perfect night out with friends and your favorite local businesses!\n\n\n\nThe first 600 attendees will get a free Fiesta flower crown\, reusable swag bag\, and map upon check-in at one of our two check-in locations: Main Plaza and Gunpowder and Cabernet. We can't wait to see you!\n\n\n\nThank you to our amazing event sponsors:\n\n	Presenting Sponsor - McRae MD Medical Laser Center\n	Bag Sponsor - Enrich Health and Wellness\n	T-Shirt Sponsor - Sendero Wealth Management\n	Photo & Video Sponsor - Stahl Medical\n	Decor Sponsor - Legacy Broker Group\n	Official Men's Drop Off Sponsor - The Oak of Boerne\n	Lighting Sponsor - United Rentals\n	Glitter Sponsors - Fair Oaks Emergency Room\, GVTC Communications\, My Urgent Care Clinic\, Southwest Children's Center\n	Shopping Trail Sponsors - Boerne Bespoke Cleaning Services\, Hill Country Animal League & Thrift Store\, Rock Pharmacy\, Visiting Angels\n\n\n\nParticipating Shops and Restaurants Include:\n\n248 N Main St Chateau (Plaza)\n\nAlene's Boutique\n\nART Spa House\n\nThe Artisanry Turkish Towels (Plaza)\n\nThe Boerne Bookshop\n\nBranded J Boutique\n\n249 Brantley's Bistro\n\nCeleste\n\nCielo\n\nThe Christmas Shoppe\n\nCorner Cartel\n\nCrumbl (Plaza)\n\nCuStumm Design & Tees\n\nDeVino Cellars\n\nThe Dienger Trading Company\n\nEl Camino Ranch (Plaza)\n\nElara Aesthetics & Boutique (Plaza)\n\nElla Blue\n\nFree Roam Brewing Co\n\nGlitter Freckles by V (Plaza)\n\nGunpowder & Cabernet (check-in location)\n\nHandmade on Main (Plaza)\n\nHey Love\n\nHill & Bach Cellars (Plaza)\n\nJoli Boutique\n\nKoperi Copper (Plaza)\n\nLa Dama Fina\n\nLa Tarte Gourmet Bakery (Plaza)\n\nLa Te Da\n\nLaurie Saunders\n\nLongevity Pilates (Plaza)\n\nLost Oak Cellars\n\nLulu-Bell's\n\nLynnmade Jewelry (Plaza)\n\nM&J Homemade Creations (Plaza)\n\nMainly Vintage\n\nMini Memo (Plaza)\n\nOf a Muse\n\nP.S. Bake Shop (Plaza)\n\nPurse Me Again (Plaza)\n\nReal Fashion Boutique\n\nRooted Strength (Plaza)\n\nThe Sanctuary\n\nThe Sharing Kind\n\nShoegroove\n\nThe Shoppes at 222\n\nSugar Sugar (Plaza)\n\nTexas Gourmet Pantry\n\nTexas Treasures Fine Art Gallery\n\nTexas Treasures Fine Jewelers\n\nTexican Cooks (Plaza)\n\nTraditions at the Depot\n\nTre Pizzeria\n\nTusculum Brewing Co.\n\nTwo Trick Pony\n\nUptown Chic\n\n\n\nIf you're interested in participating as a vendor or sponsoring this event\, please email steely@boerne.org.
X-ALT-DESC;FMTTYPE=text/html:<span style="color:#000000\;"><strong>**This is a rain or shine event!**<br />\n<br />\nGet ready for the best girls night out on the Hill Country Mile! </strong>Diva Spring Fling in Boerne will be Thursday\, April 9th from 5-9 pm. Major thanks to this year&#39\;s presenting sponsor\, McRae MD Medical Laser Center! This always popular evening will be bursting with everything you love from your favorite shops and restaurants\, including later shopping hours\, cocktails\, delicious bites\, music\, and more. Join the Boerne Chamber and the Boerne Retail and Restaurant Owners association for the perfect night out with friends and your favorite local businesses!<br />\n<br />\nThe first 600 attendees will get a free Fiesta flower crown\, reusable swag bag\, and map upon check-in at one of our two check-in locations: Main Plaza and Gunpowder and Cabernet. We can&#39\;t wait to see you!<br />\n<br />\nThank you to our amazing event sponsors:</span>\n<ul>\n	<li><span style="color:#000000\;">Presenting Sponsor - McRae MD Medical Laser Center</span></li>\n	<li><span style="color:#000000\;">Bag Sponsor - Enrich Health and Wellness</span></li>\n	<li><span style="color:#000000\;">T-Shirt Sponsor - Sendero Wealth Management</span></li>\n	<li><span style="color:#000000\;">Photo &amp\; Video Sponsor - Stahl Medical</span></li>\n	<li><span style="color:#000000\;">Decor Sponsor - Legacy Broker Group</span></li>\n	<li><span style="color:#000000\;">Official Men&#39\;s Drop Off Sponsor - The Oak of Boerne</span></li>\n	<li><span style="color:#000000\;">Lighting Sponsor - United Rentals</span></li>\n	<li><span style="color:#000000\;">Glitter Sponsors - Fair Oaks Emergency Room\, GVTC Communications\, My Urgent Care Clinic\, Southwest Children&#39\;s Center</span></li>\n	<li><span style="color:#000000\;">Shopping Trail Sponsors - Boerne Bespoke Cleaning Services\, Hill Country Animal League &amp\; Thrift Store\, Rock Pharmacy\, Visiting Angels</span></li>\n</ul>\n<br />\n<span style="color:#000000\;"><strong>Participating Shops and Restaurants Include:</strong><br />\n248 N Main St Chateau (Plaza)<br />\nAlene&#39\;s Boutique<br />\nART Spa House<br />\nThe Artisanry Turkish Towels (Plaza)<br />\nThe Boerne Bookshop<br />\nBranded J Boutique<br />\n249 Brantley&#39\;s Bistro<br />\nCeleste<br />\nCielo<br />\nThe Christmas Shoppe<br />\nCorner Cartel<br />\nCrumbl (Plaza)<br />\nCuStumm Design &amp\; Tees<br />\nDeVino Cellars<br />\nThe Dienger Trading Company<br />\nEl Camino Ranch (Plaza)<br />\nElara Aesthetics &amp\; Boutique (Plaza)<br />\nElla Blue<br />\nFree Roam Brewing Co<br />\nGlitter Freckles by V (Plaza)<br />\nGunpowder &amp\; Cabernet (check-in location)<br />\nHandmade on Main (Plaza)<br />\nHey Love<br />\nHill &amp\; Bach Cellars (Plaza)<br />\nJoli Boutique<br />\nKoperi Copper (Plaza)<br />\nLa Dama Fina<br />\nLa Tarte Gourmet Bakery (Plaza)<br />\nLa Te Da<br />\nLaurie Saunders<br />\nLongevity Pilates (Plaza)<br />\nLost Oak Cellars<br />\nLulu-Bell&#39\;s<br />\nLynnmade Jewelry&nbsp\;(Plaza)<br />\nM&amp\;J Homemade Creations&nbsp\;(Plaza)<br />\nMainly Vintage<br />\nMini Memo&nbsp\;(Plaza)<br />\nOf a Muse<br />\nP.S. Bake Shop&nbsp\;(Plaza)<br />\nPurse Me Again&nbsp\;(Plaza)<br />\nReal Fashion Boutique<br />\nRooted Strength&nbsp\;(Plaza)<br />\nThe Sanctuary<br />\nThe Sharing Kind<br />\nShoegroove<br />\nThe Shoppes at 222<br />\nSugar Sugar&nbsp\;(Plaza)<br />\nTexas Gourmet Pantry<br />\nTexas Treasures Fine Art Gallery<br />\nTexas Treasures Fine Jewelers<br />\nTexican Cooks (Plaza)<br />\nTraditions at the Depot<br />\nTre Pizzeria<br />\nTusculum Brewing Co.<br />\nTwo Trick Pony<br />\nUptown Chic</span><br />\n<br />\n<span style="color:#000000\;">If you&#39\;re interested in participating as a vendor or sponsoring this event\, please email</span> <a href="mailto:steely@boerne.org">steely@boerne.org</a>.<br />\n<br />\n&nbsp\;
LOCATION:
UID:e.187.32194
SEQUENCE:3
DTSTAMP:20260424T113541Z
URL:https://business.boerne.org/events/details/diva-spring-fling-presented-by-mcrae-md-medical-laser-center-04-09-2026-32194
END:VEVENT

END:VCALENDAR
