BEGIN:VCALENDAR
VERSION:2.0
PRODID:-//ChamberMaster//Event Calendar 2.0//EN
METHOD:PUBLISH
X-PUBLISHED-TTL:P3D
REFRESH-INTERVAL:P3D
CALSCALE:GREGORIAN
BEGIN:VEVENT
DTSTART:20191107T230000Z
DTEND:20191108T030000Z
X-MICROSOFT-CDO-ALLDAYEVENT:FALSE
SUMMARY:Diva Night on the Hill Country Mile
DESCRIPTION:It's Diva Night on the Hill Country Mile\, and the Boerne Chamber is excited to host some awesome businesses in our offices! As you stroll down Main Street\, be sure to stop by the Chamber and visit our vendors including:\n\n	Bending Branch Winery\n	CBD American Shaman - Boerne Hill Country\n	Cedar & Oak Entertainment and Events\n	Chic Jewelry\n	Core Athletic Club\n	Eyes on Main\n	Jane Lehman with LegalShield\n	Kathy Bullard - Senior Sales Director with Mary Kay\n	Southern Voice\n	Z's Wood Fired Pizza\n\nAlso\, visit our other amazing Chamber members participating in Diva Night at their locations including:\n\n\n	Bechants\n	Calamity Jane's Trading Co.\n	Celeste\n	Joli Boutique\n	Laurie Saunders\n	Maker's Place\n	Plaza Taxco Boerne\n	The Christmas Shoppe\n	The Flower Shop\n	The Pearl Antler\n	The Victorian Rose\n	Traditions at the Depot\n	UpTown Chic Boutique & Gifts\n\nAlso be sure to visit these other Chamber member businesses who will be open late with festivities:\n\n\n	Kiss the Cook\n	Flashback Funtiques\n	Cibolo Creek Brewing Co.\n	Texas Treasures Fine Art Gallery & Frame Shop\n	Salty & Sweet\n	Cibolo Family Medicine\n	Peggy's on the Green\n	The Kendall\n\nJoin us for food\, wine\, giveaways and fun at Diva Night!
X-ALT-DESC;FMTTYPE=text/html:It&#39\;s Diva Night on the Hill Country Mile\, and the Boerne Chamber is excited to host some awesome businesses in our offices! As you stroll down Main Street\, be sure to stop by the Chamber and visit our vendors including:\n<ul>\n	<li><a href="https://business.boerne.org/list/member/bending-branch-winery-6029">Bending Branch Winery</a></li>\n	<li><a href="https://business.boerne.org/list/member/cbd-american-shaman-boerne-hill-country-18885">CBD American Shaman - Boerne Hill Country</a></li>\n	<li><a href="https://business.boerne.org/list/member/cedar-oak-entertainment-and-events-18713">Cedar &amp\; Oak Entertainment and Events</a></li>\n	<li><a href="https://business.boerne.org/list/member/chic-jewelry-6565">Chic Jewelry</a></li>\n	<li><a href="https://business.boerne.org/list/member/core-athletic-club-18813">Core Athletic Club</a></li>\n	<li><a href="https://business.boerne.org/list/member/eyes-on-main-18729">Eyes on Main</a></li>\n	<li><a href="https://business.boerne.org/list/member/legalshield-jane-lehman-independent-associate-10125">Jane Lehman with LegalShield</a></li>\n	<li><a href="https://business.boerne.org/list/member/kathy-bullard-mary-kay-independent-senior-sales-director-14608">Kathy Bullard - Senior Sales Director with Mary Kay</a></li>\n	<li><a href="https://www.facebook.com/SoVoTX/">Southern Voice</a></li>\n	<li><a href="https://business.boerne.org/list/member/z-s-wood-fired-pizza-llc-14507">Z&#39\;s Wood Fired Pizza</a></li>\n</ul>\nAlso\, visit our other amazing Chamber members participating in Diva Night at their locations including:\n\n<ul>\n	<li><a href="https://business.boerne.org/list/member/bechants-group-llc-18677">Bechants</a></li>\n	<li><a href="https://business.boerne.org/list/member/calamity-jane-s-trading-co-1061">Calamity Jane&#39\;s Trading Co.</a></li>\n	<li><a href="https://business.boerne.org/list/member/celeste-1041">Celeste</a></li>\n	<li><a href="https://business.boerne.org/list/member/joli-boutique-13462">Joli Boutique</a></li>\n	<li><a href="https://business.boerne.org/list/member/laurie-saunders-ltd-antiques-interiors-10263">Laurie Saunders</a></li>\n	<li><a href="https://business.boerne.org/list/member/maker-s-place-11333">Maker&#39\;s Place</a></li>\n	<li><a href="https://business.boerne.org/list/member/plaza-taxco-boerne-18840">Plaza Taxco Boerne</a></li>\n	<li><a href="https://business.boerne.org/list/member/the-christmas-shoppe-boerne-251">The Christmas Shoppe</a></li>\n	<li><a href="https://business.boerne.org/list/member/the-flower-shop-333">The Flower Shop</a></li>\n	<li><a href="https://www.thepearlantler.com/">The Pearl Antler</a></li>\n	<li><a href="http://business.boerne.org/list/member/the-victorian-rose-boerne-7814">The&nbsp\;</a><a href="https://business.boerne.org/list/member/the-victorian-rose-boerne-7814">Victorian Rose</a></li>\n	<li><a href="https://business.boerne.org/list/member/traditions-at-the-depot-651">Traditions at the Depot</a></li>\n	<li><a href="https://business.boerne.org/list/member/uptown-chic-18841">UpTown Chic Boutique &amp\; Gifts</a></li>\n</ul>\nAlso be sure to visit these other Chamber member businesses who will be open late with festivities:\n\n<ul>\n	<li><a href="http://www.kissthecooktx.com/">Kiss the Cook</a></li>\n	<li><a href="https://flashback-funtiques.com/">Flashback Funtiques</a></li>\n	<li><a href="https://www.cibolocreekbrewing.com/">Cibolo Creek Brewing Co.</a></li>\n	<li><a href="https://www.texastreasuresfineart.com/">Texas Treasures Fine Art Gallery &amp\; Frame Shop</a></li>\n	<li><a href="https://www.saltyandsweetboerne.com/">Salty &amp\; Sweet</a></li>\n	<li><a href="https://cibolofm.com/">Cibolo Family Medicine</a></li>\n	<li><a href="http://www.peggysonthegreen.com/">Peggy&#39\;s on the Green</a></li>\n	<li><a href="https://www.thekendalltx.com/">The Kendall</a></li>\n</ul>\nJoin us for food\, wine\, giveaways and fun at Diva Night!<br />\n&nbsp\;
LOCATION:Boerne Chamber of Commerce 121 S. Main St. Boerne\, TX 78006
UID:e.187.16751
SEQUENCE:3
DTSTAMP:20260419T210343Z
URL:https://business.boerne.org/events/details/diva-night-on-the-hill-country-mile-16751
END:VEVENT

END:VCALENDAR
