BEGIN:VCALENDAR
VERSION:2.0
PRODID:-//ChamberMaster//Event Calendar 2.0//EN
METHOD:PUBLISH
X-PUBLISHED-TTL:P3D
REFRESH-INTERVAL:P3D
CALSCALE:GREGORIAN
BEGIN:VEVENT
DTSTART:20241107T230000Z
DTEND:20241108T030000Z
X-MICROSOFT-CDO-ALLDAYEVENT:FALSE
SUMMARY:Diva Night in Boerne - Presented by Ginny Thompson\, State Farm Insurance
DESCRIPTION:Get ready for the best girls night out on the Hill Country Mile! Diva Night in Boerne will be Thursday\, November 7th from 5-9 pm. Major thanks to this year's presenting sponsor\, Ginny Thompson with State Farm Insurance! This always popular evening will be bursting with everything you love from your favorite shops and restaurants\, including later shopping hours\, cocktails\, delicious bites\, music\, and more. Join the Boerne Chamber and the Boerne Retail and Restaurant Owners association for the perfect night out with friends and your favorite local businesses!\n\n\n\nBe sure to check in and grab your boa\, tiara\, reusable swag bag\, and map at one of our two check-in locations\, The Pearl Antler and Main Plaza. We can't wait to see you!\n\n\n\nParticipating Businesses Include:\n\n	259 Brantley's Bistro and Bar\n	828 Boutique - booth located at Main Plaza\n	Alene's Boutique\n	The Artisanry - booth located at Main Plaza\n	The Boerne Bookshop\n	Branded J Boutique - booth located at Main Plaza\n	Calamity Jane's / Daisy Pearl\n	Celeste\n	Charming Decor Creations - booth located at Main Plaza\n	The Christmas Shoppe\n	Core Athletic Club - booth located at Main Plaza\n	The Corner Cartel\n	DeVino Cellars - booth located at Main Plaza\n	The Dienger Trading Co.\n	ECHO Physical Therapy and Athletics - booth located at Main Plaza\n	Ella Blue\n	Enrich Health and Wellness - booth located at Main Plaza\n	Fenn Collection USA - booth located at Main Plaza\n	Free Roam Brewing Co.\n	Gunpowder and Cabernet\n	Handmade on Main - booth located at Main Plaza\n	Hey Love\n	The Iron Hummingbird\n	Island Tumeric - booth located at Main Plaza\n	Joli Boutique\n	La Te Da\n	Laurie Saunders\, Ltd.\n	Longevity Pilates - booth located at Main Plaza\n	Lost Oak Cellars\n	Lulu-Bells\n	Lynnmade Jewelry - booth located at Main Plaza\n	Mainly Vintage\n	Merle Norman Cosmetics & Facetime Spa - booth located at Main Plaza\n	Neda's Coffee Haus - truck located at Main Plaza\n	Of A Muse\n	The Pearl Antler *check-in location*\n	Pixie\n	Platinum Brix Winery\n	Real Fashion Boutique\n	The Red Rooster\n	Roc-N-Ritas\n	The Sanctuary\n	Shoppes at 222\n	Texas Gourmet Pantry\n	Texican Cooks - booth located at Main Plaza\n	Traditions at The Depot\n	Tre Pizzeria\n	Under The Fig Tree\n	Uptown Chic\n\nThank you to our amazing event sponsors:\n\n\n	Presenting Sponsor - Ginny Thompson with State Farm Insurance\n	Bag Sponsor - Enrich Health and Wellness\n	T-Shirt Sponsor - Whataburger\n	Gold Sponsor - The City of Boerne\n	DJ Sponsor - Spoil Me Kids Spa\n	Decor Sponsor - Merle Norman Cosmetics and Facetime Spa\n	Shopping Trail Sponsor - The Marquardt Ranch\, Randolph-Brooks Federal Credit Union\n\nIf you're interested in participating as a vendor or sponsoring this event\, please email steely@boerne.org.
X-ALT-DESC;FMTTYPE=text/html:<strong>Get ready for the best girls night out on the Hill Country Mile! </strong>Diva Night in Boerne will be Thursday\, November 7th from 5-9 pm. Major thanks to this year&#39\;s presenting sponsor\, Ginny Thompson with State Farm Insurance! This always popular evening will be bursting with everything you love from your favorite shops and restaurants\, including later shopping hours\, cocktails\, delicious bites\, music\, and more. Join the Boerne Chamber and the Boerne Retail and Restaurant Owners association for the perfect night out with friends and your favorite local businesses!<br />\n<br />\nBe sure to check in and grab your boa\, tiara\, reusable swag bag\, and map at one of our two check-in locations\, The Pearl Antler and Main Plaza. We can&#39\;t wait to see you!<br />\n<br />\nParticipating Businesses Include:\n<ul>\n	<li>259 Brantley&#39\;s Bistro and Bar</li>\n	<li>828 Boutique - booth located at Main Plaza</li>\n	<li>Alene&#39\;s Boutique</li>\n	<li>The Artisanry&nbsp\;- booth located at Main Plaza</li>\n	<li>The Boerne Bookshop</li>\n	<li>Branded J Boutique - booth located at Main Plaza</li>\n	<li>Calamity Jane&#39\;s / Daisy Pearl</li>\n	<li>Celeste</li>\n	<li>Charming Decor Creations&nbsp\;- booth located at Main Plaza</li>\n	<li>The Christmas Shoppe</li>\n	<li>Core Athletic Club - booth located at Main Plaza</li>\n	<li>The Corner Cartel</li>\n	<li>DeVino Cellars&nbsp\;- booth located at Main Plaza</li>\n	<li>The Dienger Trading Co.</li>\n	<li>ECHO Physical Therapy and Athletics - booth located at Main Plaza</li>\n	<li>Ella Blue</li>\n	<li>Enrich Health and Wellness - booth located at Main Plaza</li>\n	<li>Fenn Collection USA - booth located at Main Plaza</li>\n	<li>Free Roam Brewing Co.</li>\n	<li>Gunpowder and Cabernet</li>\n	<li>Handmade on Main - booth located at Main Plaza</li>\n	<li>Hey Love</li>\n	<li>The Iron Hummingbird</li>\n	<li>Island Tumeric&nbsp\;- booth located at Main Plaza</li>\n	<li>Joli Boutique</li>\n	<li>La Te Da</li>\n	<li>Laurie Saunders\, Ltd.</li>\n	<li>Longevity Pilates - booth located at Main Plaza</li>\n	<li>Lost Oak Cellars</li>\n	<li>Lulu-Bells</li>\n	<li>Lynnmade Jewelry - booth located at Main Plaza</li>\n	<li>Mainly Vintage</li>\n	<li>Merle Norman Cosmetics &amp\; Facetime Spa&nbsp\;- booth located at Main Plaza</li>\n	<li>Neda&#39\;s Coffee Haus - truck located at Main Plaza</li>\n	<li>Of A Muse</li>\n	<li>The Pearl Antler *check-in location*</li>\n	<li>Pixie</li>\n	<li>Platinum Brix Winery</li>\n	<li>Real Fashion Boutique</li>\n	<li>The Red Rooster</li>\n	<li>Roc-N-Ritas</li>\n	<li>The Sanctuary</li>\n	<li>Shoppes at 222</li>\n	<li>Texas Gourmet Pantry</li>\n	<li>Texican Cooks - booth located at Main Plaza</li>\n	<li>Traditions at The Depot</li>\n	<li>Tre Pizzeria</li>\n	<li>Under The Fig Tree</li>\n	<li>Uptown Chic</li>\n</ul>\nThank you to our amazing event sponsors:\n\n<ul>\n	<li>Presenting Sponsor - Ginny Thompson with State Farm Insurance</li>\n	<li>Bag Sponsor - Enrich Health and Wellness</li>\n	<li>T-Shirt Sponsor - Whataburger</li>\n	<li>Gold Sponsor - The City of Boerne</li>\n	<li>DJ Sponsor - Spoil Me Kids Spa</li>\n	<li>Decor Sponsor - Merle Norman Cosmetics and Facetime Spa</li>\n	<li>Shopping Trail Sponsor - The Marquardt Ranch\, Randolph-Brooks Federal Credit Union</li>\n</ul>\nIf you&#39\;re interested in participating as a vendor or sponsoring this event\, please email <a href="mailto:steely@boerne.org">steely@boerne.org</a>.
LOCATION:
UID:e.187.28572
SEQUENCE:3
DTSTAMP:20260419T162834Z
URL:https://business.boerne.org/events/details/diva-night-in-boerne-presented-by-ginny-thompson-state-farm-insurance-28572
END:VEVENT

END:VCALENDAR
