BEGIN:VCALENDAR
VERSION:2.0
PRODID:-//ChamberMaster//Event Calendar 2.0//EN
METHOD:PUBLISH
X-PUBLISHED-TTL:P3D
REFRESH-INTERVAL:P3D
CALSCALE:GREGORIAN
BEGIN:VEVENT
DTSTART:20181108T230000Z
DTEND:20181109T030000Z
X-MICROSOFT-CDO-ALLDAYEVENT:FALSE
SUMMARY:Diva Night - Hill Country Mile
DESCRIPTION:Diva Night in Downtown Boerne \n\nStores will have regular business hours during the day. Diva Night festivities will begin at 5 PM and include shopping\, live music\, dining and great specials for the Diva in you! Come out and support your local businesses with a night of fun shopping! The first 200 Divas to check in at The Dienger Trading Co. or The Flower Shoppe will get a tiara or a boa!!
X-ALT-DESC;FMTTYPE=text/html:<span style="font-family:arial\;"><strong>Diva Night in Downtown Boerne&nbsp\;</strong><br />\n<span style="color: rgb(102\, 102\, 102)\;">Stores will have regular business hours during the day. Diva Night festivities will begin at 5 PM and include shopping\, live music\, dining and great specials for the Diva in you! Come out and support your local businesses with a night of fun shopping! The first 200 Divas to check in at The Dienger Trading Co. or The Flower Shoppe will get a tiara or a boa!!</span></span>
LOCATION:Downtown Boerne Hill Country Mile Boerne\, TX 78006
UID:e.187.15105
SEQUENCE:3
DTSTAMP:20260419T235632Z
URL:https://business.boerne.org/events/details/diva-night-hill-country-mile-15105
END:VEVENT

END:VCALENDAR
