BEGIN:VCALENDAR
VERSION:2.0
PRODID:-//ChamberMaster//Event Calendar 2.0//EN
METHOD:PUBLISH
X-PUBLISHED-TTL:P3D
REFRESH-INTERVAL:P3D
CALSCALE:GREGORIAN
BEGIN:VEVENT
DTSTART:20190411T220000Z
DTEND:20190412T020000Z
X-MICROSOFT-CDO-ALLDAYEVENT:FALSE
SUMMARY:Diva Night
DESCRIPTION:
X-ALT-DESC;FMTTYPE=text/html:
LOCATION:Along the Hill Country Mile
UID:e.187.15323
SEQUENCE:3
DTSTAMP:20260419T160506Z
URL:https://business.boerne.org/events/details/diva-night-15323
END:VEVENT

END:VCALENDAR
