BEGIN:VCALENDAR
VERSION:2.0
PRODID:-//ChamberMaster//Event Calendar 2.0//EN
METHOD:PUBLISH
X-PUBLISHED-TTL:P3D
REFRESH-INTERVAL:P3D
CALSCALE:GREGORIAN
BEGIN:VEVENT
DTSTART:20250612T170000Z
DTEND:20250612T210000Z
X-MICROSOFT-CDO-ALLDAYEVENT:FALSE
SUMMARY:Dietz McLean Optical Eyewear Style Show
DESCRIPTION:Mark your calendars! Join Dietz Mclean Optical Company for an exclusive Eyewear Style Show at Dietz-McLean Optical Boerne on Thursday\, June 12th from 12 4 PM!\n\n\n\nDiscover the latest styles from Silhouette Eyewear\, Dietz Mclean's trusted Austrian-made brand known for lightweight luxury and the bold\, polarized performance of Maui Jim sunglasses!\n\n\n\nWhether you're looking for your next signature look or just want to browse premium eyewear at a local shop\, this is the perfect time to stop by and SHOP LOCAL! \n\n\n\n  1375 S. Main St\, Boerne\n\n  Questions or want to schedule an appointment? Call 830-816-5001.
X-ALT-DESC;FMTTYPE=text/html:<span class="x1xsqp64 xiy17q3 x1o6pynw x19co3pv xdj266r xjn30re xat24cr x1hb08if x2b8uid" data-testid="emoji" style="cursor: default\; background-image: url(&quot\;https://static.xx.fbcdn.net/images/emoji.php/v9/tea/1/16/1f453.png&quot\;)\; background-size: 16px 16px\; white-space-collapse: preserve\;"><span class="xexx8yu xcaqkgz x18d9i69 xbwkkl7 x3jgonx x1bhl96m">&#128083\;</span></span><span class="x1xsqp64 xiy17q3 x1o6pynw x19co3pv xdj266r xjn30re xat24cr x1hb08if x2b8uid" data-testid="emoji" style="cursor: default\; background-image: url(&quot\;https://static.xx.fbcdn.net/images/emoji.php/v9/tf4/1/16/2728.png&quot\;)\; background-size: 16px 16px\; white-space-collapse: preserve\;"><span class="xexx8yu xcaqkgz x18d9i69 xbwkkl7 x3jgonx x1bhl96m">&#10024\;</span></span><span style="white-space-collapse: preserve\;"> Mark your calendars! Join </span><span class="xv78j7m" spellcheck="false" style="white-space-collapse: preserve\;">Dietz Mclean Optical Company</span><span style="white-space-collapse: preserve\;"> for an exclusive Eyewear Style Show at Dietz-McLean Optical Boerne on Thursday\, June 12th from 12&ndash\;4 PM!</span><br />\n<br />\n<span style="white-space-collapse: preserve\;">Discover the latest styles from </span><span class="xv78j7m" spellcheck="false" style="white-space-collapse: preserve\;">Silhouette Eyewear</span><span style="white-space-collapse: preserve\;">\, Dietz Mclean&#39\;s trusted Austrian-made brand known for lightweight luxury and the bold\, polarized performance of </span><span class="xv78j7m" spellcheck="false" style="white-space-collapse: preserve\;">Maui Jim</span><span style="white-space-collapse: preserve\;"> sunglasses!</span><br />\n<br />\n<span style="white-space-collapse: preserve\;">Whether you&#39\;re looking for your next signature look or just want to browse premium eyewear at a local shop\, this is the perfect time to stop by and SHOP LOCAL! </span><br />\n<br />\n<span class="x1xsqp64 xiy17q3 x1o6pynw x19co3pv xdj266r xjn30re xat24cr x1hb08if x2b8uid" data-testid="emoji" style="cursor: default\; background-image: url(&quot\;https://static.xx.fbcdn.net/images/emoji.php/v9/t2d/1/16/1f4cd.png&quot\;)\; background-size: 16px 16px\; white-space-collapse: preserve\;"><span class="xexx8yu xcaqkgz x18d9i69 xbwkkl7 x3jgonx x1bhl96m">&#128205\;</span></span><span style="white-space-collapse: preserve\;"> 1375 S. Main St\, Boerne</span><br />\n<span class="x1xsqp64 xiy17q3 x1o6pynw x19co3pv xdj266r xjn30re xat24cr x1hb08if x2b8uid" data-testid="emoji" style="cursor: default\; background-image: url(&quot\;https://static.xx.fbcdn.net/images/emoji.php/v9/t4d/1/16/1f4de.png&quot\;)\; background-size: 16px 16px\; white-space-collapse: preserve\;"><span class="xexx8yu xcaqkgz x18d9i69 xbwkkl7 x3jgonx x1bhl96m">&#128222\;</span></span><span style="white-space-collapse: preserve\;"> Questions or want to schedule an appointment? Call 830-816-5001.</span>
LOCATION:Dietz-McLean Optical 1375 S. Main St. Boerne\, TX 78006
UID:e.187.30607
SEQUENCE:3
DTSTAMP:20260422T195327Z
URL:https://business.boerne.org/events/details/dietz-mclean-optical-eyewear-style-show-30607
END:VEVENT

END:VCALENDAR
