BEGIN:VCALENDAR
VERSION:2.0
PRODID:-//ChamberMaster//Event Calendar 2.0//EN
METHOD:PUBLISH
X-PUBLISHED-TTL:P3D
REFRESH-INTERVAL:P3D
CALSCALE:GREGORIAN
BEGIN:VEVENT
DTSTART:20241010T210000Z
DTEND:20241011T020000Z
X-MICROSOFT-CDO-ALLDAYEVENT:FALSE
SUMMARY:DeVino Cellars Ladies' Night
DESCRIPTION:Ladies' Night at DeVino Cellars Featuring Pampered Chef with Jodi Dillmon! \n\n\n\nJoin us for a fabulous evening of fun\, food\, and wine! Sample delicious dips and perfectly paired wines\, all made using Pampered Chef products prepared by our local consultant\, Jodi Dillmon. Whether you're new to Pampered Chef or looking to discover their latest must-haves\, this is the perfect opportunity to see the products in action.\n\n\n\nPlus\, we're offering a special drawing for everyone who attends\, and an extra chance to win if you book a party of your own! Don't miss this exciting night bring your friends and enjoy an unforgettable experience!
X-ALT-DESC;FMTTYPE=text/html:<span style="font-size:14px\;"><span style="font-family:arial\;">Ladies&#39\; Night at DeVino Cellars Featuring Pampered Chef with Jodi Dillmon!&nbsp\;<br />\n<br />\nJoin us for a fabulous evening of fun\, food\, and wine! Sample delicious dips and perfectly paired wines\, all made using Pampered Chef products prepared by our local consultant\, Jodi Dillmon. Whether you&#39\;re new to Pampered Chef or looking to discover their latest must-haves\, this is the perfect opportunity to see the products in action.<br />\n<br />\nPlus\, we&rsquo\;re offering a <strong>special drawing</strong> for everyone who attends\, and an extra chance to win if you book a party of your own! Don&rsquo\;t miss this exciting night&mdash\;bring your friends and enjoy an unforgettable experience!</span></span>
LOCATION:DeVino Cellars 1109 S Main St\, #101 Boerne\, TX 78006
UID:e.187.28701
SEQUENCE:3
DTSTAMP:20260419T162442Z
URL:https://business.boerne.org/events/details/devino-cellars-ladies-night-28701
END:VEVENT

END:VCALENDAR
