BEGIN:VCALENDAR
VERSION:2.0
PRODID:-//ChamberMaster//Event Calendar 2.0//EN
METHOD:PUBLISH
X-PUBLISHED-TTL:P3D
REFRESH-INTERVAL:P3D
CALSCALE:GREGORIAN
BEGIN:VEVENT
DTSTART;VALUE=DATE:20180915
DTEND;VALUE=DATE:20180916
TRANSP:TRANSPARENT
X-MICROSOFT-CDO-ALLDAYEVENT:TRUE
SUMMARY:DATE CHANGE for the New & Luxury Car Auto Show!
DESCRIPTION:The New & Luxury Car Auto Show date has changed to Saturday\, November 3rd from 10 am to 5 pm on Main Plaza Park in Boerne\, Texas.
X-ALT-DESC;FMTTYPE=text/html:The New &amp\; Luxury Car Auto Show date has changed to Saturday\, November 3rd from 10 am to 5 pm on Main Plaza Park in Boerne\, Texas.
LOCATION:Main Plaza Park\, Boerne\, TX
UID:e.187.14888
SEQUENCE:3
DTSTAMP:20260420T025540Z
URL:https://business.boerne.org/events/details/date-change-for-the-new-luxury-car-auto-show-14888
END:VEVENT

END:VCALENDAR
