BEGIN:VCALENDAR
VERSION:2.0
PRODID:-//ChamberMaster//Event Calendar 2.0//EN
METHOD:PUBLISH
X-PUBLISHED-TTL:P3D
REFRESH-INTERVAL:P3D
CALSCALE:GREGORIAN
BEGIN:VEVENT
DTSTART:20260326T140000Z
DTEND:20260326T150000Z
X-MICROSOFT-CDO-ALLDAYEVENT:FALSE
SUMMARY:Crestmont Christian Preparatory School Information Meeting
DESCRIPTION:Join Crestmont Christian Preparatory School on Thursday\, March 26th at 9am for an Information Session! Crestmont Christian Preparatory School is a K-12 University-Model school in Boerne\, TX. They are an educational community of Christ-followers\, called together to a Kingdom model of disciple-making that begins at home. Enrollment is open and they are currently accepting applications for K-12 for the 25-26 school year.\n\n\n\nVisit their website at https://www.crestmontprep.org/admissions-1 to learn more\, register for an interest meeting\, or apply now!
X-ALT-DESC;FMTTYPE=text/html:<div class="xdj266r x14z9mp xat24cr x1lziwak x1vvkbs x126k92a" style="white-space-collapse: preserve\; margin-inline: 0px\; overflow-wrap: break-word\; margin-bottom: 0px\; margin-top: 0px\; font-family: &quot\;Segoe UI Historic&quot\;\, &quot\;Segoe UI&quot\;\, Helvetica\, Arial\, sans-serif\; color: rgb(8\, 8\, 9)\; font-size: 15px\; background-color: rgb(255\, 255\, 255)\;">\n<div dir="auto" style="font-family: inherit\;">Join <span class="html-span xdj266r x14z9mp xat24cr x1lziwak xexx8yu xyri2b x18d9i69 x1c1uobl x1hl2dhg x16tdsg8 x1vvkbs" style="margin-inline: 0px\; text-align: inherit\; padding-inline: 0px\; overflow-wrap: break-word\; padding-bottom: 0px\; margin-bottom: 0px\; margin-top: 0px\; padding-top: 0px\; font-family: inherit\;"><a attributionsrc="/privacy_sandbox/comet/register/source/?xt=AZZpdyGV-_7rcGQfBHODk46ultvMmVhk2kcdNCY-MBt_QLKc8yaV8Bud5K2TeyCOxQwGNf00v6QHUghsWXFIjcC-K2CaWTK0bhMCDZmAjSbG92n-aUsiFpKzUuQU0ni0Q47TEdrQ8cawix-3Rxxkj5ktUVugTcGxOkjSXlhpi2eJbiu7EHWp18To9bINAbvlr3nMH3ANaMbtEDCmzuIUyDKdTRyPl_e54KGs_mYimSP-4_gvf5d9GYUOSOu2uX9nk3GAx309_L35vnCX0OicHB0jWHtxVIDN2rvLSJph15iDGptuxzgk20vk0TZPksGYaFN1n-zPCMz1cW0kCMPGwsEvIy2z4DkO0AbISv_MXpcxyr_VoD7rqP4TxH4OFECVVFdSUOsLz2qPLjFNvqXDLcce3bCnvyNBXkw6ZWJJDAhG2tB-vb3Uz7DEGGAe2BPwlZ2dY8xEeAyEFIDvWDNnd6LjZ_cF306zx9h-sJtV-5Oy5ho5jPJzqfEeEtNZ80YrV2ep47ZH7iUWOJRROGvcqTtiZt1z-RtadaEXcDHCt1Y3VNQ5bG4BeUwiyeRGcJwp-wbR4kZCzFjHnlfJKSl5STqJfyTXWfYNfjmQuoJBX_SL6KfVtZuRBDMSHvYowTzBspozYBi8a6YeNl_rqlJicboZaMGcAitHjkTYfB33Z0lexMefqP53WFhEkQI24k805l8jnBQU4kSrZ1j_MUagoPED8KA5-Ztx4dQV6OmINS1qCdT-pKwVGJW5aNketH3pAOSKvi0b7inKzZKWl_vqzMRC2Tg78rILnwrp2PCxc4sZIjLjeUG-B8xHUcyL3kFR_eWHrfScxBp3ZU65XOww7cAG6jMlzruDtSBTSWKzdNlhohWH5AFx7ZMuXppA2YvhF-B52zFSqnJmeihQFlSlRO2lqN8YmG9iJuyT3cPyv277_MiXx86nUPHRNOl-5bhjNVmIeccohWWcKMSchWkBLhtTdnaA1Ku7YeXL89pMVGoQvmgfVsXhXscIS8r7lVPTeK2BSq03rkHTSHH1nbyaiRzzwrqu50bwlbZaUv5v_SL0mbXfRjZ18-IpMW5DzAHvoMzvko8fK2VzyQD7e2PrIGyoIV1dEZOEBhFo7q9RndyWVESz0ubYu0nVGMGBYSg9BlKUm1qhgzvDKHvbGYKdSHVbChKKL2lF_5ECEE-IASsdUspzP9I6mCIJhAAf_wbiSbjiBgeCEogjN9JenTgqytadn3FH-4IHhsjJWfbEtQT1uF2_1veDo06sRwSlJSx7ru46fiFFta5DW_aKGFrIwyVqIHuCmOA7DQZo_xr3w_F9OTKn4iHmSkAI9g9m7JtuX1fRKVp0igDEefCcGgsW5ILpoR3DeWfPrTD86nQ-M67yLA" class="x1i10hfl xjbqb8w x1ejq31n x18oe1m7 x1sy0etr xstzfhl x972fbf x10w94by x1qhh985 x14e42zd x9f619 x1ypdohk xt0psk2 x3ct3a4 xdj266r x14z9mp xat24cr x1lziwak xexx8yu xyri2b x18d9i69 x1c1uobl x16tdsg8 x1hl2dhg xggy1nq x1a2a7pz xkrqix3 x1sur9pj x1fey0fg x1s688f" href="https://www.facebook.com/crestmontprep?__cft__[0]=AZaq1FsofqF9Xg89KZNilVonuQkYdTiTM1HEwbSpPAaLeHLmh1ULa47-ikMB3SsMAGJTYVscrk-LvqnYQHdv7VetiEGypeNCoEek0kvYRuojPVxbK9UeK45Ry4Ptpr8J_g4C5UKi71rSOGfCGoI4wJhm&amp\;__tn__=-]K-R" role="link" style="color: rgb(0\, 100\, 209)\; cursor: pointer\; text-decoration-line: none\; outline: none\; border-inline-width: 0px\; margin-inline: 0px\; text-align: inherit\; border-inline-style: none\; padding-inline: 0px\; -webkit-tap-highlight-color: transparent\; font-weight: 600\; list-style-type: none\; box-sizing: border-box\; touch-action: manipulation\; background-color: transparent\; display: inline\; padding-bottom: 0px\; border-top-style: none\; border-bottom-width: 0px\; border-bottom-style: none\; border-top-width: 0px\; margin-bottom: 0px\; margin-top: 0px\; padding-top: 0px\; font-family: inherit\;" tabindex="0"><span class="xt0psk2" style="display: inline\; font-family: inherit\;">Crestmont Christian Preparatory School</span></a></span> on Thursday\, March 26th at 9am for an Information Session! Crestmont Christian Preparatory School is a K-12 University-Model school in Boerne\, TX. They are an educational community of Christ-followers\, called together to a Kingdom model of disciple-making that begins at home. Enrollment is open and they are currently accepting applications for K-12 for the 25-26 school year.</div>\n</div>\n\n<div class="x14z9mp xat24cr x1lziwak x1vvkbs xtlvy1s x126k92a" style="white-space-collapse: preserve\; margin-inline: 0px\; overflow-wrap: break-word\; margin-bottom: 0px\; margin-top: 0.5em\; font-family: &quot\;Segoe UI Historic&quot\;\, &quot\;Segoe UI&quot\;\, Helvetica\, Arial\, sans-serif\; color: rgb(8\, 8\, 9)\; font-size: 15px\; background-color: rgb(255\, 255\, 255)\;">\n<div dir="auto" style="font-family: inherit\;">Visit their website at <span class="html-span xdj266r x14z9mp xat24cr x1lziwak xexx8yu xyri2b x18d9i69 x1c1uobl x1hl2dhg x16tdsg8 x1vvkbs" style="margin-inline: 0px\; text-align: inherit\; padding-inline: 0px\; overflow-wrap: break-word\; padding-bottom: 0px\; margin-bottom: 0px\; margin-top: 0px\; padding-top: 0px\; font-family: inherit\;"><a attributionsrc="/privacy_sandbox/comet/register/source/?xt=AZZpdyGV-_7rcGQfBHODk46ultvMmVhk2kcdNCY-MBt_QLKc8yaV8Bud5K2TeyCOxQwGNf00v6QHUghsWXFIjcC-K2CaWTK0bhMCDZmAjSbG92n-aUsiFpKzUuQU0ni0Q47TEdrQ8cawix-3Rxxkj5ktUVugTcGxOkjSXlhpi2eJbiu7EHWp18To9bINAbvlr3nMH3ANaMbtEDCmzuIUyDKdTRyPl_e54KGs_mYimSP-4_gvf5d9GYUOSOu2uX9nk3GAx309_L35vnCX0OicHB0jWHtxVIDN2rvLSJph15iDGptuxzgk20vk0TZPksGYaFN1n-zPCMz1cW0kCMPGwsEvIy2z4DkO0AbISv_MXpcxyr_VoD7rqP4TxH4OFECVVFdSUOsLz2qPLjFNvqXDLcce3bCnvyNBXkw6ZWJJDAhG2tB-vb3Uz7DEGGAe2BPwlZ2dY8xEeAyEFIDvWDNnd6LjZ_cF306zx9h-sJtV-5Oy5ho5jPJzqfEeEtNZ80YrV2ep47ZH7iUWOJRROGvcqTtiZt1z-RtadaEXcDHCt1Y3VNQ5bG4BeUwiyeRGcJwp-wbR4kZCzFjHnlfJKSl5STqJfyTXWfYNfjmQuoJBX_SL6KfVtZuRBDMSHvYowTzBspozYBi8a6YeNl_rqlJicboZaMGcAitHjkTYfB33Z0lexMefqP53WFhEkQI24k805l8jnBQU4kSrZ1j_MUagoPED8KA5-Ztx4dQV6OmINS1qCdT-pKwVGJW5aNketH3pAOSKvi0b7inKzZKWl_vqzMRC2Tg78rILnwrp2PCxc4sZIjLjeUG-B8xHUcyL3kFR_eWHrfScxBp3ZU65XOww7cAG6jMlzruDtSBTSWKzdNlhohWH5AFx7ZMuXppA2YvhF-B52zFSqnJmeihQFlSlRO2lqN8YmG9iJuyT3cPyv277_MiXx86nUPHRNOl-5bhjNVmIeccohWWcKMSchWkBLhtTdnaA1Ku7YeXL89pMVGoQvmgfVsXhXscIS8r7lVPTeK2BSq03rkHTSHH1nbyaiRzzwrqu50bwlbZaUv5v_SL0mbXfRjZ18-IpMW5DzAHvoMzvko8fK2VzyQD7e2PrIGyoIV1dEZOEBhFo7q9RndyWVESz0ubYu0nVGMGBYSg9BlKUm1qhgzvDKHvbGYKdSHVbChKKL2lF_5ECEE-IASsdUspzP9I6mCIJhAAf_wbiSbjiBgeCEogjN9JenTgqytadn3FH-4IHhsjJWfbEtQT1uF2_1veDo06sRwSlJSx7ru46fiFFta5DW_aKGFrIwyVqIHuCmOA7DQZo_xr3w_F9OTKn4iHmSkAI9g9m7JtuX1fRKVp0igDEefCcGgsW5ILpoR3DeWfPrTD86nQ-M67yLA" class="x1i10hfl xjbqb8w x1ejq31n x18oe1m7 x1sy0etr xstzfhl x972fbf x10w94by x1qhh985 x14e42zd x9f619 x1ypdohk xt0psk2 x3ct3a4 xdj266r x14z9mp xat24cr x1lziwak xexx8yu xyri2b x18d9i69 x1c1uobl x16tdsg8 x1hl2dhg xggy1nq x1a2a7pz xkrqix3 x1sur9pj x1fey0fg x1s688f" href="https://www.crestmontprep.org/admissions-1?fbclid=IwZXh0bgNhZW0CMTAAYnJpZBExMVg5dkZ0QjdGYmJoOEtiVHNydGMGYXBwX2lkEDIyMjAzOTE3ODgyMDA4OTIAAR7541yqLJCIcgHu4e3hlIXJf1lepPWSSaQvT-DnXVSzOhBivxhnUY3_XmGraA_aem_FT2CrhgBhF8TNNTbyAWwtA" rel="nofollow" role="link" style="color: rgb(0\, 100\, 209)\; cursor: pointer\; text-decoration-line: none\; outline: none\; border-inline-width: 0px\; margin-inline: 0px\; text-align: inherit\; border-inline-style: none\; padding-inline: 0px\; -webkit-tap-highlight-color: transparent\; font-weight: 600\; list-style-type: none\; box-sizing: border-box\; touch-action: manipulation\; background-color: transparent\; display: inline\; padding-bottom: 0px\; border-top-style: none\; border-bottom-width: 0px\; border-bottom-style: none\; border-top-width: 0px\; margin-bottom: 0px\; margin-top: 0px\; padding-top: 0px\; font-family: inherit\;" tabindex="0" target="_blank">https://www.crestmontprep.org/admissions-1</a></span> to learn more\, register for an interest meeting\, or apply now!</div>\n</div>\n
LOCATION:Crestmont Christian Preparatory School 631 S. School St. Boerne\, TX 78006
UID:e.187.32283
SEQUENCE:3
DTSTAMP:20260420T070358Z
URL:https://business.boerne.org/events/details/crestmont-christian-preparatory-school-information-meeting-32283
END:VEVENT

END:VCALENDAR
