BEGIN:VCALENDAR
VERSION:2.0
PRODID:-//ChamberMaster//Event Calendar 2.0//EN
METHOD:PUBLISH
X-PUBLISHED-TTL:P3D
REFRESH-INTERVAL:P3D
CALSCALE:GREGORIAN
BEGIN:VEVENT
DTSTART:20190414T170000Z
DTEND:20190414T230000Z
X-MICROSOFT-CDO-ALLDAYEVENT:FALSE
SUMMARY:Core Athletic Club Grand Opening Ribbon Cutting
DESCRIPTION:Join us for a ribbon cutting to celebrate the grand opening of Core Athletic Club!\n\n\n\nCore will have a bouncy house\, food\, beer\, wine\, DJ and more! Tour the gym\, sample live group classes\, meet with personal trainers and Instructors and sign up! Last chance for pre-registration pricing!!
X-ALT-DESC;FMTTYPE=text/html:Join us for a ribbon cutting to celebrate the grand opening of Core Athletic Club!<br />\n<br />\nCore will have a bouncy house\, food\, beer\, wine\, DJ and more! Tour the gym\, sample live group classes\, meet with personal trainers and Instructors and sign up! Last chance for pre-registration pricing!!
LOCATION:Core Athletic Club 1580 River Road Boerne\, TX 78006
UID:e.187.16367
SEQUENCE:3
DTSTAMP:20260419T175237Z
URL:https://business.boerne.org/events/details/core-athletic-club-grand-opening-ribbon-cutting-16367
END:VEVENT

END:VCALENDAR
