BEGIN:VCALENDAR
VERSION:2.0
PRODID:-//ChamberMaster//Event Calendar 2.0//EN
METHOD:PUBLISH
X-PUBLISHED-TTL:P3D
REFRESH-INTERVAL:P3D
CALSCALE:GREGORIAN
BEGIN:VEVENT
DTSTART:20241009T180000Z
DTEND:20241009T200000Z
X-MICROSOFT-CDO-ALLDAYEVENT:FALSE
SUMMARY:CONFERENCE ROOM: Legacy Mutual Mortgage AI Class
DESCRIPTION:Legacy Mutual Mortgage AI Class for Realtors
X-ALT-DESC;FMTTYPE=text/html:Legacy Mutual Mortgage AI Class for Realtors
LOCATION:Boerne Chamber Conference Room
UID:e.187.28646
SEQUENCE:3
DTSTAMP:20260419T181151Z
URL:https://business.boerne.org/events/details/conference-room-legacy-mutual-mortgage-ai-class-28646
END:VEVENT

END:VCALENDAR
