BEGIN:VCALENDAR
VERSION:2.0
PRODID:-//ChamberMaster//Event Calendar 2.0//EN
METHOD:PUBLISH
X-PUBLISHED-TTL:P3D
REFRESH-INTERVAL:P3D
CALSCALE:GREGORIAN
BEGIN:VEVENT
DTSTART:20241031T220000Z
DTEND:20241101T010000Z
X-MICROSOFT-CDO-ALLDAYEVENT:FALSE
SUMMARY:Comfort Baptist Church Trunk or Treat
DESCRIPTION:It's Trunk or Treat time!! Come on out to Comfort Baptist Church parking lot for a full fun time! There will be music\, free food\, carnival games\, balloons\, photobooth\, pie toss booth\, car trunks\, bounce house\, and prizes!! Open for all the family\, it's going to be great!!
X-ALT-DESC;FMTTYPE=text/html:<span style="color: rgb(8\, 8\, 9)\; font-family: &quot\;Segoe UI Historic&quot\;\, &quot\;Segoe UI&quot\;\, Helvetica\, Arial\, sans-serif\; font-size: 15px\;">It&#39\;s Trunk or Treat time!! Come on out to Comfort Baptist Church parking lot for a full fun time! There will be music\, free food\, carnival games\, balloons\, photobooth\, pie toss booth\, car trunks\, bounce house\, and prizes!! Open for all the family\, it&#39\;s going to be great!!</span><span style="color: rgb(8\, 8\, 9)\; font-family: &quot\;Segoe UI Historic&quot\;\, &quot\;Segoe UI&quot\;\, Helvetica\, Arial\, sans-serif\; font-size: 15px\;">&nbsp\;</span>
LOCATION:Comfort Baptist Church 100 Amber Dr Comfort\, TX 78006
UID:e.187.28711
SEQUENCE:3
DTSTAMP:20260419T181410Z
URL:https://business.boerne.org/events/details/comfort-baptist-church-trunk-or-treat-28711
END:VEVENT

END:VCALENDAR
