BEGIN:VCALENDAR
VERSION:2.0
PRODID:-//ChamberMaster//Event Calendar 2.0//EN
METHOD:PUBLISH
X-PUBLISHED-TTL:P3D
REFRESH-INTERVAL:P3D
CALSCALE:GREGORIAN
BEGIN:VEVENT
DTSTART:20180814T230000Z
DTEND:20180815T010000Z
X-MICROSOFT-CDO-ALLDAYEVENT:FALSE
SUMMARY:City Council Meeting
DESCRIPTION:
X-ALT-DESC;FMTTYPE=text/html:
LOCATION:
UID:e.187.1954
SEQUENCE:3
DTSTAMP:20260420T042729Z
URL:https://business.boerne.org/events/details/city-council-meeting-08-14-2018-1954
END:VEVENT

END:VCALENDAR
