BEGIN:VCALENDAR
VERSION:2.0
PRODID:-//ChamberMaster//Event Calendar 2.0//EN
METHOD:PUBLISH
X-PUBLISHED-TTL:P3D
REFRESH-INTERVAL:P3D
CALSCALE:GREGORIAN
BEGIN:VEVENT
DTSTART:20190514T230000Z
DTEND:20190515T010000Z
X-MICROSOFT-CDO-ALLDAYEVENT:FALSE
SUMMARY:City Council Meeting
DESCRIPTION:
X-ALT-DESC;FMTTYPE=text/html:
LOCATION:
UID:e.187.1963
SEQUENCE:3
DTSTAMP:20260419T143624Z
URL:https://business.boerne.org/events/details/city-council-meeting-05-14-2019-1963
END:VEVENT

END:VCALENDAR
