BEGIN:VCALENDAR
VERSION:2.0
PRODID:-//ChamberMaster//Event Calendar 2.0//EN
METHOD:PUBLISH
X-PUBLISHED-TTL:P3D
REFRESH-INTERVAL:P3D
CALSCALE:GREGORIAN
BEGIN:VEVENT
DTSTART:20280115T150000Z
DTEND:20280115T190000Z
X-MICROSOFT-CDO-ALLDAYEVENT:FALSE
SUMMARY:Cibolo Farmers Market at Herff Farm
DESCRIPTION:Just a mile from Historic Downtown Boerne\, the Cibolo Farmers Market at Herff Farm connects local farmers\, ranchers\, artisans\, and eco-conscious growers to create a vibrant\, nature-connected community. By supporting handmade products and fresh produce\, the market reflects The Cibolo Center for Conservation's mission of nurturing sustainable living. Browse the market\, explore trails and gardens\, or visit the restored Herff House. Expect to find produce\, farm-fresh eggs\, local sustainably raised meat\, wine\, baked goods\, preserves and pickles\, locally roasted coffee\, and more. Open every Saturday from 9am-1pm!
X-ALT-DESC;FMTTYPE=text/html:Just a mile from Historic Downtown Boerne\, the Cibolo Farmers Market at Herff Farm connects local farmers\, ranchers\, artisans\, and eco-conscious growers to create a vibrant\, nature-connected community. By supporting handmade products and fresh produce\, the market reflects The Cibolo Center for Conservation&#39\;s mission of nurturing sustainable living.&nbsp\;Browse the market\, explore trails and gardens\, or visit the restored Herff House. Expect to find produce\, farm-fresh eggs\, local sustainably raised meat\, wine\, baked goods\, preserves and pickles\, locally roasted coffee\, and more. Open every Saturday from 9am-1pm!
LOCATION:HERFF FARM 33 Herff Road Boerne\, TX 78006
UID:e.187.29748
SEQUENCE:3
DTSTAMP:20260423T193010Z
URL:https://business.boerne.org/events/details/cibolo-farmers-market-at-herff-farm-01-15-2028-29748
END:VEVENT

END:VCALENDAR
