BEGIN:VCALENDAR
VERSION:2.0
PRODID:-//ChamberMaster//Event Calendar 2.0//EN
METHOD:PUBLISH
X-PUBLISHED-TTL:P3D
REFRESH-INTERVAL:P3D
CALSCALE:GREGORIAN
BEGIN:VEVENT
DTSTART:20260311T143000Z
DTEND:20260311T163000Z
X-MICROSOFT-CDO-ALLDAYEVENT:FALSE
SUMMARY:Cibolo Family Days
DESCRIPTION:Do you want an affordable\, meaningful experience for the whole family this Spring Break? Join us for Cibolo Family Days\, where you can have fun\, spend time outside together\, and learn about nature as a family.\n\nWhen: March 9-11\, 2026\, from 9:30-11:30am\n\nWhere: Cibolo Nature Center (140 City Park Rd\, Boerne\, Texas 78006)\n\nPrice: $15/family per day\, or bundle all three days for $30\n\nSchedule:\n\nMonday\, March 9: Family Scavenger Hunt Competition\n\nTuesday\, March 10: Family Birding Day\n\nWednesday\, March 11: Card Making with Christina
X-ALT-DESC;FMTTYPE=text/html:<p>Do you want an affordable\, meaningful experience for the whole family this Spring Break? Join us for Cibolo Family Days\,&nbsp\;where you can have fun\, spend time outside together\, and learn about nature as a family.</p>\n\n<p><strong>When:&nbsp\;</strong>March 9-11\, 2026\, from 9:30-11:30am<br />\n<strong>Where:</strong>&nbsp\;Cibolo Nature Center (140 City Park Rd\, Boerne\, Texas 78006)<br />\n<strong>Price:&nbsp\;</strong>$15/family per day\, or bundle all three days for $30</p>\n\n<p><strong>Schedule:</strong><br />\nMonday\, March 9: Family Scavenger Hunt Competition<br />\nTuesday\, March 10: Family&nbsp\;Birding Day<br />\nWednesday\, March 11:&nbsp\;Card Making with Christina</p>\n
LOCATION:Cibolo Nature Center 140 City Park Rd. Boerne\, Texas\, 78006
UID:e.187.32119
SEQUENCE:3
DTSTAMP:20260420T070742Z
URL:https://business.boerne.org/events/details/cibolo-family-days-03-11-2026-32119
END:VEVENT

END:VCALENDAR
