BEGIN:VCALENDAR
VERSION:2.0
PRODID:-//ChamberMaster//Event Calendar 2.0//EN
METHOD:PUBLISH
X-PUBLISHED-TTL:P3D
REFRESH-INTERVAL:P3D
CALSCALE:GREGORIAN
BEGIN:VEVENT
DTSTART:20230113T003000Z
DTEND:20230113T030000Z
X-MICROSOFT-CDO-ALLDAYEVENT:FALSE
SUMMARY:Cibolo Creek Quilters Guild Meeting and Program
DESCRIPTION:January 2023 Cibolo Creek Quilters Guild Meeting and Program\n\n\n\nAll are welcome to join the local quilters guild for our Monthly Meetings.  This January is special because we showcase the talent within our own organization!\n\n\n\nCome and get 20 minute demonstrations on:\n\n\n\nFree Motion Quilting - by Linda Heatherley\n\nApplique - by Judi Burr\n\nQuilt Labels - by Kathleen Swafford\n\n\n\nThe doors open at 6:30 pm.  Come see what you can sign up for\, or what is on the FREE table!  The meeting starts at 7:00 pm.  We will start with a brief business meeting\, then discuss activities the guild is participating in for 2023.  \n\n\n\nThen we divide into three groups and check out the demonstrations.\n\n\n\nThis is followed by our Famous Show and Tell!\n\n\n\nWhen:  January 12\, 2023 6:30 pm\n\nWhere: Patrick Heath Public Library Community Room\n\n\n\nNot a member?  That's ok.  Check us out...Membership is $25 for the Calendar Year\n\n\n\nVisit our website at www.cibolocreekquiltersguild.com\n\nOr visit us on Facebook\n\n\n\nSee You There!
X-ALT-DESC;FMTTYPE=text/html:January 2023 Cibolo Creek Quilters Guild Meeting and Program<br />\n<br />\nAll are welcome to join the local quilters guild for our Monthly Meetings. &nbsp\;This January is special because we showcase the talent within our own organization!<br />\n<br />\nCome and get 20 minute demonstrations on:<br />\n<br />\nFree Motion Quilting - by Linda Heatherley<br />\nApplique - by Judi Burr<br />\nQuilt Labels - by Kathleen Swafford<br />\n<br />\nThe doors open at 6:30 pm. &nbsp\;Come see what you can sign up for\, or what is on the FREE table! &nbsp\;The meeting starts at 7:00 pm. &nbsp\;We will start with a brief business meeting\, then discuss activities the guild is participating in for 2023. &nbsp\;<br />\n<br />\nThen we divide into three groups and check out the demonstrations.<br />\n<br />\nThis is followed by our Famous Show and Tell!<br />\n<br />\nWhen: &nbsp\;January 12\, 2023 6:30 pm<br />\nWhere: Patrick Heath Public Library Community Room<br />\n<br />\nNot a member? &nbsp\;That&#39\;s ok. &nbsp\;Check us out...Membership is $25 for the Calendar Year<br />\n<br />\nVisit our website at www.cibolocreekquiltersguild.com<br />\nOr visit us on Facebook<br />\n<br />\nSee You There!<br />\n&nbsp\;
LOCATION:
UID:e.187.20740
SEQUENCE:3
DTSTAMP:20260423T071352Z
URL:https://business.boerne.org/events/details/cibolo-creek-quilters-guild-meeting-and-program-20740
END:VEVENT

END:VCALENDAR
