BEGIN:VCALENDAR
VERSION:2.0
PRODID:-//ChamberMaster//Event Calendar 2.0//EN
METHOD:PUBLISH
X-PUBLISHED-TTL:P3D
REFRESH-INTERVAL:P3D
CALSCALE:GREGORIAN
BEGIN:VEVENT
DTSTART:20260305T220000Z
DTEND:20260306T000000Z
X-MICROSOFT-CDO-ALLDAYEVENT:FALSE
SUMMARY:Christian Journey Courses & Kendall County Sherriff's Department Mixer
DESCRIPTION:Christian Journey Courses has partnered with The Kendall County Sheriff's Office to host a Spring Mixer on Thursday\, March 5th\, 4-6pm! Come enjoy libations and lite fares\, while they discuss how CJC is changing lives and transforming our community! Be sure to bring a business card for a drawing! If you are interested in more information about this event\, please call 830-331-9916 or email cjc@cjcboerne.org \n\n\n\n : Kendall County Sheriff's Office Training Room   6 Staudt St. Boerne\, TX 78006 \n\n\n\n : https://www.cjcboerne.org/spring-mixer
X-ALT-DESC;FMTTYPE=text/html:<span class="xv78j7m" spellcheck="false" style="white-space-collapse: preserve\;">Christian Journey Courses</span><span style="white-space-collapse: preserve\;"> has partnered with The </span><span class="xv78j7m" spellcheck="false" style="white-space-collapse: preserve\;">Kendall County Sheriff&#39\;s Office</span><span style="white-space-collapse: preserve\;"> to host a Spring Mixer on Thursday\, March 5th\, 4-6pm! Come enjoy libations and lite fares\, while they discuss how CJC is changing lives and transforming our community! Be sure to bring a business card for a drawing! If you are interested in more information about this event\, please call 830-331-9916 or email cjc@cjcboerne.org </span><br />\n<br />\n<span class="x1xsqp64 xiy17q3 x1o6pynw x19co3pv xdj266r xjn30re xat24cr x1hb08if x2b8uid" data-testid="emoji" style="cursor: default\; background-image: url(&quot\;https://static.xx.fbcdn.net/images/emoji.php/v9/t2d/1/16/1f4cd.png&quot\;)\; background-size: 16px 16px\; white-space-collapse: preserve\;"><span class="xexx8yu xcaqkgz x18d9i69 xbwkkl7 x3jgonx x1bhl96m">&#128205\;</span></span><span style="white-space-collapse: preserve\;">: Kendall County Sheriff&#39\;s Office Training Room &ndash\; 6 Staudt St. Boerne\, TX 78006 </span><br />\n<br />\n<span class="x1xsqp64 xiy17q3 x1o6pynw x19co3pv xdj266r xjn30re xat24cr x1hb08if x2b8uid" data-testid="emoji" style="cursor: default\; background-image: url(&quot\;https://static.xx.fbcdn.net/images/emoji.php/v9/tb3/1/16/1f517.png&quot\;)\; background-size: 16px 16px\; white-space-collapse: preserve\;"><span class="xexx8yu xcaqkgz x18d9i69 xbwkkl7 x3jgonx x1bhl96m">&#128279\;</span></span><span style="white-space-collapse: preserve\;">: </span><a class="x1fey0fg xmper1u x1edh9d7" href="https://www.cjcboerne.org/spring-mixer"><span style="white-space-collapse: preserve\;">https://www.cjcboerne.org/spring-mixer</span></a><span style="white-space-collapse: preserve\;"> </span>
LOCATION:Kendall County Sherriff's Department 6 Staudt St. Boerne\, TX 78006
UID:e.187.31963
SEQUENCE:3
DTSTAMP:20260420T070838Z
URL:https://business.boerne.org/events/details/christian-journey-courses-kendall-county-sherriff-s-department-mixer-31963
END:VEVENT

END:VCALENDAR
