BEGIN:VCALENDAR
VERSION:2.0
PRODID:-//ChamberMaster//Event Calendar 2.0//EN
METHOD:PUBLISH
X-PUBLISHED-TTL:P3D
REFRESH-INTERVAL:P3D
CALSCALE:GREGORIAN
BEGIN:VEVENT
DTSTART:20240926T170000Z
DTEND:20240926T180000Z
X-MICROSOFT-CDO-ALLDAYEVENT:FALSE
SUMMARY:Christian Job Corps Luncheon Fundraiser
DESCRIPTION:Christian Journey Courses invites you to join them for a luncheon fundraiser on Thursday\, September 26th\, 12-1pm! Come learn how inmates find their true identity and a new beginning. Christian Job Corps has also changed their name to Christian Journey Courses! Join them and see what the CJC is all about! Go to https://www.cjcboerne.org/luncheon-fundraiser to sign up or sponsor today. You can also call 830-331-9916 or email cjc@cjcboerne.org.
X-ALT-DESC;FMTTYPE=text/html:<span class="html-span xdj266r x11i5rnm xat24cr x1mh8g0r xexx8yu x4uap5 x18d9i69 xkhd6sd x1hl2dhg x16tdsg8 x1vvkbs" style="margin: 0px\; overflow-wrap: break-word\; padding: 0px\; font-family: &quot\;Segoe UI Historic&quot\;\, &quot\;Segoe UI&quot\;\, Helvetica\, Arial\, sans-serif\; color: rgb(5\, 5\, 5)\; font-size: 15px\; white-space-collapse: preserve\; background-color: rgb(255\, 255\, 255)\;"><a attributionsrc="/privacy_sandbox/comet/register/source/?xt=AZVZXCrV1i2JZ27GQVBR7Uu0ZibqZIZKHPzqgEkdgSSiFQApiHDGPjOYaTuekbgWNAOo4v-zrRXrw0KIA5AzaQ49OLnwi5AS0rtaGrxGegsOSg39cNlX4p1lrf1fbdBE3DN6JGV6woC7iNQKqzZmCgjjJ-tOzJdIkqm_9EPQb5cLmj0QfviSLJ86D24EOI15Jo0zgyQ4uHD-rb3Isxcw41Vc6x3y-o6fIGNI5rJ6JkCn0yHWmQVLXX3Xn1cF8tnnMbCACVWQVe3BfmnlkeM0gOzPEB4JkulLObUbEP81VvNd45miGaLywH2MvIUyScEE9EEA7YK6QAR9r6I8zeZTzRA-nBPD3G0Lryt3ADfGmhNBAnaJtvc9u-1GR3VND12QFEfKL_RxKqJKZsLeqfOitlH4R68y5LYkyc5uDj_R_Uehq1dzzV1RxAQi3BZeLk_rlCc9ztDvCtWLcBhyq3zY4fv17fJlRdAgz7Srp8YgD-gUt__xvh7A_XDXYQ3M2nO-lBqfZH4uZKr42Pp5_ShYEL7BG0THVfh0kJ_Vnn2prRQD-004Fk_R8ynUl22-T_VU5a99dKvwKixa-7VGGeRuuDnpf0sjygaMLcq3kchoN_ClsYIezztrnGndUc4qSmrWGrYEqi8PGmlhJL89aUcZeX00bEaPxmkeiBu_i9DevgqhmWlBOJ_pKDiEUjAQnq_S62dUpTaDTnAMKGRon3pbTzDrNud0surgyMUwe2FCRa2uk9BPbUqQWQdjKk75s9mJbWmy3DGaZ8bADyhc1Nw9CpYgy8Oha61AM6_bWrYUPoUwulD7VJFVIbWuwZo0zQsq5IAPt2SH_ikFhiU7D4Mnqxd9NaennAWBGvGqxkfQv_gM_MJDj-SdlT7T0CxGEGhgUooRSic3W_Bikkj7EjZa0n3F1Vo4uDJxlNsBAzZ2wI1sDXNAYzMkE7MJ0AUHx06z1NG38PHPnHN6yo1w2UJZwokwsk_whKl_WMZxwuoHycFAsYTVRYHQ0KAgWPxcDN1dDvcygDjCvyAFWQ39bLAtjCHGm4FOw1zEFUCPr9FRZZpwAE1ARHiFu4TLHBiN8VsvFAWNeiR2O_XO6nHhkdQRSg_ggFAy-mGv7TUHHw6JNI9sJ4-GuS7P-OHIoyMKrZkgsUNt1hN2vuo-3KrsqBaPpqUC4kaF0Hy6BoqaJaLJPl-G9rhpEOk7wzQfcyt8Koq0iaRNKgbimi9L643B4iUkYf3xD189Y57TcLp8aezKz_JHF0z-YCXK4CqSX7iOMRORz9zM4t-MXR-0TV3U5ZqG_75aHtA1pBDs8V0jSYbN6CQiP0tw_WN7Vk8SFfdKnJwo-ydDoy0kNQuN68IwPSFx9n7DO0mXH9Ojt1hzcBUyewIEO25D5NF5lRBjyVRV1ipszTlSoLC991-ZU-QCadLAA3N8HpQFm6amRHeEcPHs8MKQ-0sDOh5tDM8E8y7TIVlVHgRAcxkDs7xWG9KHDLxScFfbtbz5t4mnnGrc27qr_IkHyuSieS-_7e92cWXUAQj74ykhDUhLGOslhkK7s6X_uajZdmcQoKBgR9pRAIH4jM3skQ" class="x1i10hfl xjbqb8w x1ejq31n xd10rxx x1sy0etr x17r0tee x972fbf xcfux6l x1qhh985 xm0m39n x9f619 x1ypdohk xt0psk2 xe8uvvx xdj266r x11i5rnm xat24cr x1mh8g0r xexx8yu x4uap5 x18d9i69 xkhd6sd x16tdsg8 x1hl2dhg xggy1nq x1a2a7pz x1sur9pj xkrqix3 x1fey0fg xo1l8bm" href="https://www.facebook.com/cjcboerne?__cft__[0]=AZXXbWhViMdbLWXmJJRQciPGb7fIifQOeXYkd1T4--Ovx3BXcMy57aJlSAaBk2u2xu2B95guWY1CxG3Mxjsb3w09yB53X4a1Rd1QB9AuSuczsuSVsno4C2hQ9BCRlC-0SFb0hqR6BV-nM03T-Av5jwZDNLDmKW0VFTqNM9LRrk8YVcd9TjBW7slRG45L0Fq9ZFlVBHpCxdHQqIMQvsmUbFwx&amp\;__tn__=-]K-R" role="link" style="cursor: pointer\; text-decoration-line: none\; list-style: none\; margin: 0px\; text-align: inherit\; border-style: none\; padding: 0px\; box-sizing: border-box\; border-width: 0px\; outline: none\; -webkit-tap-highlight-color: transparent\; touch-action: manipulation\; background-color: transparent\; display: inline\; font-family: inherit\;" tabindex="0"><span class="xt0psk2" style="display: inline\; font-family: inherit\;">Christian Journey Courses</span></a></span><span style="color: rgb(5\, 5\, 5)\; font-family: &quot\;Segoe UI Historic&quot\;\, &quot\;Segoe UI&quot\;\, Helvetica\, Arial\, sans-serif\; font-size: 15px\; white-space-collapse: preserve\; background-color: rgb(255\, 255\, 255)\;"> invites you to join them for a luncheon fundraiser on Thursday\, September 26th\, 12-1pm! Come learn how inmates find their true identity and a new beginning. Christian Job Corps has also changed their name to Christian Journey Courses! Join them and see what the CJC is all about! Go to </span><span class="html-span xdj266r x11i5rnm xat24cr x1mh8g0r xexx8yu x4uap5 x18d9i69 xkhd6sd x1hl2dhg x16tdsg8 x1vvkbs" style="margin: 0px\; overflow-wrap: break-word\; padding: 0px\; font-family: &quot\;Segoe UI Historic&quot\;\, &quot\;Segoe UI&quot\;\, Helvetica\, Arial\, sans-serif\; color: rgb(5\, 5\, 5)\; font-size: 15px\; white-space-collapse: preserve\; background-color: rgb(255\, 255\, 255)\;"><a attributionsrc="/privacy_sandbox/comet/register/source/?xt=AZVZXCrV1i2JZ27GQVBR7Uu0ZibqZIZKHPzqgEkdgSSiFQApiHDGPjOYaTuekbgWNAOo4v-zrRXrw0KIA5AzaQ49OLnwi5AS0rtaGrxGegsOSg39cNlX4p1lrf1fbdBE3DN6JGV6woC7iNQKqzZmCgjjJ-tOzJdIkqm_9EPQb5cLmj0QfviSLJ86D24EOI15Jo0zgyQ4uHD-rb3Isxcw41Vc6x3y-o6fIGNI5rJ6JkCn0yHWmQVLXX3Xn1cF8tnnMbCACVWQVe3BfmnlkeM0gOzPEB4JkulLObUbEP81VvNd45miGaLywH2MvIUyScEE9EEA7YK6QAR9r6I8zeZTzRA-nBPD3G0Lryt3ADfGmhNBAnaJtvc9u-1GR3VND12QFEfKL_RxKqJKZsLeqfOitlH4R68y5LYkyc5uDj_R_Uehq1dzzV1RxAQi3BZeLk_rlCc9ztDvCtWLcBhyq3zY4fv17fJlRdAgz7Srp8YgD-gUt__xvh7A_XDXYQ3M2nO-lBqfZH4uZKr42Pp5_ShYEL7BG0THVfh0kJ_Vnn2prRQD-004Fk_R8ynUl22-T_VU5a99dKvwKixa-7VGGeRuuDnpf0sjygaMLcq3kchoN_ClsYIezztrnGndUc4qSmrWGrYEqi8PGmlhJL89aUcZeX00bEaPxmkeiBu_i9DevgqhmWlBOJ_pKDiEUjAQnq_S62dUpTaDTnAMKGRon3pbTzDrNud0surgyMUwe2FCRa2uk9BPbUqQWQdjKk75s9mJbWmy3DGaZ8bADyhc1Nw9CpYgy8Oha61AM6_bWrYUPoUwulD7VJFVIbWuwZo0zQsq5IAPt2SH_ikFhiU7D4Mnqxd9NaennAWBGvGqxkfQv_gM_MJDj-SdlT7T0CxGEGhgUooRSic3W_Bikkj7EjZa0n3F1Vo4uDJxlNsBAzZ2wI1sDXNAYzMkE7MJ0AUHx06z1NG38PHPnHN6yo1w2UJZwokwsk_whKl_WMZxwuoHycFAsYTVRYHQ0KAgWPxcDN1dDvcygDjCvyAFWQ39bLAtjCHGm4FOw1zEFUCPr9FRZZpwAE1ARHiFu4TLHBiN8VsvFAWNeiR2O_XO6nHhkdQRSg_ggFAy-mGv7TUHHw6JNI9sJ4-GuS7P-OHIoyMKrZkgsUNt1hN2vuo-3KrsqBaPpqUC4kaF0Hy6BoqaJaLJPl-G9rhpEOk7wzQfcyt8Koq0iaRNKgbimi9L643B4iUkYf3xD189Y57TcLp8aezKz_JHF0z-YCXK4CqSX7iOMRORz9zM4t-MXR-0TV3U5ZqG_75aHtA1pBDs8V0jSYbN6CQiP0tw_WN7Vk8SFfdKnJwo-ydDoy0kNQuN68IwPSFx9n7DO0mXH9Ojt1hzcBUyewIEO25D5NF5lRBjyVRV1ipszTlSoLC991-ZU-QCadLAA3N8HpQFm6amRHeEcPHs8MKQ-0sDOh5tDM8E8y7TIVlVHgRAcxkDs7xWG9KHDLxScFfbtbz5t4mnnGrc27qr_IkHyuSieS-_7e92cWXUAQj74ykhDUhLGOslhkK7s6X_uajZdmcQoKBgR9pRAIH4jM3skQ" class="x1i10hfl xjbqb8w x1ejq31n xd10rxx x1sy0etr x17r0tee x972fbf xcfux6l x1qhh985 xm0m39n x9f619 x1ypdohk xt0psk2 xe8uvvx xdj266r x11i5rnm xat24cr x1mh8g0r xexx8yu x4uap5 x18d9i69 xkhd6sd x16tdsg8 x1hl2dhg xggy1nq x1a2a7pz x1sur9pj xkrqix3 x1fey0fg" href="https://www.cjcboerne.org/luncheon-fundraiser?fbclid=IwZXh0bgNhZW0CMTAAAR2EgMNCg0VCoAcM6J7-LSgr8BzZhyOM8rqDoEwRGY7064tLKZbVn-Q1QgQ_aem_vHE3XIOcFMFOUy5QfTs6mQ" rel="nofollow noreferrer" role="link" style="cursor: pointer\; text-decoration-line: none\; list-style: none\; margin: 0px\; text-align: inherit\; border-style: none\; padding: 0px\; box-sizing: border-box\; border-width: 0px\; outline: none\; -webkit-tap-highlight-color: transparent\; touch-action: manipulation\; background-color: transparent\; display: inline\; font-family: inherit\;" tabindex="0" target="_blank">https://www.cjcboerne.org/luncheon-fundraiser</a></span><span style="color: rgb(5\, 5\, 5)\; font-family: &quot\;Segoe UI Historic&quot\;\, &quot\;Segoe UI&quot\;\, Helvetica\, Arial\, sans-serif\; font-size: 15px\; white-space-collapse: preserve\; background-color: rgb(255\, 255\, 255)\;"> to sign up or sponsor today. You can also call 830-331-9916 or email cjc@cjcboerne.org. </span>
LOCATION:First United Methodist Church Boerne
UID:e.187.28574
SEQUENCE:3
DTSTAMP:20260419T181108Z
URL:https://business.boerne.org/events/details/christian-job-corps-luncheon-fundraiser-28574
END:VEVENT

END:VCALENDAR
