BEGIN:VCALENDAR
VERSION:2.0
PRODID:-//ChamberMaster//Event Calendar 2.0//EN
METHOD:PUBLISH
X-PUBLISHED-TTL:P3D
REFRESH-INTERVAL:P3D
CALSCALE:GREGORIAN
BEGIN:VEVENT
DTSTART:20260123T010000Z
DTEND:20260123T030000Z
X-MICROSOFT-CDO-ALLDAYEVENT:FALSE
SUMMARY:Champion High School Theatre Presents... Hello Dolly!
DESCRIPTION:??? Hello\, Dolly! is Coming to Champion High School! ??? Get ready for an unforgettable night of music\, laughter\, and show-stopping performances! Champion High School proudly presents its All-School Musical\, Hello\, Dolly! ?? Starring: Annie Eades\, Majestic Theatre Joci Finalist\, as the incomparable Dolly Levi Dusty Turley\, award-winning soloist\, as Barnaby Tucker ?? Featuring a LIVE orchestra bringing this Broadway classic to life! ?? Performance Dates & Times: January 22 24 at 7:00 PM January 25 at 3:00 PM ?? Location: Champion High School Auditorium ?? Concessions available! Enjoy AMC Theatre popcorn and beautifully decorated iced cookies by Wandering Whisk perfect for a sweet treat during the show! Bring your family\, friends\, and school spirit and support our incredible student performers. You won't want to miss this dazzling production put on your Sunday clothes and come see Hello\, Dolly! ???? #HelloDolly #ChampionHighSchool #AllSchoolMusical #LiveTheatre #SupportTheArts #WanderingWhisk ????
X-ALT-DESC;FMTTYPE=text/html:??? Hello\, Dolly! is Coming to Champion High School! ??? Get ready for an unforgettable night of music\, laughter\, and show-stopping performances! Champion High School proudly presents its All-School Musical\, Hello\, Dolly! ?? Starring: Annie Eades\, Majestic Theatre Joci Finalist\, as the incomparable Dolly Levi Dusty Turley\, award-winning soloist\, as Barnaby Tucker ?? Featuring a LIVE orchestra bringing this Broadway classic to life! ?? Performance Dates &amp\; Times: January 22&ndash\;24 at 7:00 PM January 25 at 3:00 PM ?? Location: Champion High School Auditorium ?? Concessions available! Enjoy AMC Theatre popcorn and beautifully decorated iced cookies by Wandering Whisk&mdash\;perfect for a sweet treat during the show! Bring your family\, friends\, and school spirit and support our incredible student performers. You won&rsquo\;t want to miss this dazzling production&mdash\;put on your Sunday clothes and come see Hello\, Dolly! ???? #HelloDolly #ChampionHighSchool #AllSchoolMusical #LiveTheatre #SupportTheArts #WanderingWhisk ????
LOCATION:Champion High School Theatre Auditorium
UID:e.187.32157
SEQUENCE:3
DTSTAMP:20260420T033906Z
URL:https://business.boerne.org/events/details/champion-high-school-theatre-presents-hello-dolly-32157
END:VEVENT

END:VCALENDAR
