BEGIN:VCALENDAR
VERSION:2.0
PRODID:-//ChamberMaster//Event Calendar 2.0//EN
METHOD:PUBLISH
X-PUBLISHED-TTL:P3D
REFRESH-INTERVAL:P3D
CALSCALE:GREGORIAN
BEGIN:VEVENT
DTSTART:20170517T163000Z
DTEND:20170517T173000Z
X-MICROSOFT-CDO-ALLDAYEVENT:FALSE
SUMMARY:ChamberMaster Members Training with Jason Moengen Our ChamberMaster Software Consultant
DESCRIPTION:Did you know that you have online benefits with your Chamber membership? You do!\n\nWe have invited our ChamberMaster Internet Marketing Consultant\, Jason Moengen\, to provide a group training session to walk you through these online benefits and exclusive upgrade opportunities on http://www.boerne.org/. This session will be held at the Chamber office on:\n\nWednesday\, 5/17\, 11:30am\n\nThe agenda for this training session includes:\n\n          How consumers find your business listing and how it looks\n\n          Advertising opportunities to help promote your business\n\n          Using the ChamberMaster Software program\n\nTake this opportunity to review your business listing   is it outdated? Missing a description? Are you at the bottom of the page?\n\n\n\nA light lunch will be provided.  Please register at MarySue@boerne.org\n\n.
X-ALT-DESC;FMTTYPE=text/html:<span style="color:#404040\;"><span style="font-family:verdana\,sans-serif\;"><span style="font-size:10.0pt\;">Did you know that you have online benefits with your Chamber membership? You do!</span></span></span><br />\n<span style="color:#404040\;"><span style="font-family:verdana\,sans-serif\;"><span style="font-size:10.0pt\;">We have invited our ChamberMaster Internet Marketing Consultant\, <strong>Jason Moengen</strong>\, to provide a group training session to walk you through these online benefits and exclusive upgrade opportunities on <a href="http://www.boerne.org/">http://www.boerne.org/</a>. This session will be <strong>held at <em>the Chamber office</em> on</strong>:</span></span></span><br />\n<strong><span style="color:#404040\;"><span style="font-family:verdana\,sans-serif\;"><span style="font-size:10.0pt\;">Wednesday\, 5/17\, <em>11:30am</em></span></span></span></strong><br />\n<span style="color:#404040\;"><span style="font-family:verdana\,sans-serif\;"><span style="font-size:10.0pt\;">The agenda for this training session includes:</span></span></span><br />\n<span style="color:#404040\;"><span style="font-family:symbol\;"><span style="font-size:10.0pt\;">&middot\;</span></span></span>&nbsp\;&nbsp\;&nbsp\;&nbsp\;&nbsp\;&nbsp\;&nbsp\;&nbsp\; <span style="color:#404040\;"><span style="font-family:verdana\,sans-serif\;"><span style="font-size:10.0pt\;">How consumers find your business listing and how it looks</span></span></span><br />\n<span style="color:#404040\;"><span style="font-family:symbol\;"><span style="font-size:10.0pt\;">&middot\;</span></span></span>&nbsp\;&nbsp\;&nbsp\;&nbsp\;&nbsp\;&nbsp\;&nbsp\;&nbsp\; <span style="color:#404040\;"><span style="font-family:verdana\,sans-serif\;"><span style="font-size:10.0pt\;">Advertising opportunities to help promote your business</span></span></span><br />\n<span style="color:#404040\;"><span style="font-family:symbol\;"><span style="font-size:10.0pt\;">&middot\;</span></span></span>&nbsp\;&nbsp\;&nbsp\;&nbsp\;&nbsp\;&nbsp\;&nbsp\;&nbsp\; <span style="color:#404040\;"><span style="font-family:verdana\,sans-serif\;"><span style="font-size:10.0pt\;">Using the ChamberMaster Software program</span></span></span><br />\n<span style="color:#404040\;"><span style="font-family:verdana\,sans-serif\;"><span style="font-size:10.0pt\;">Take this opportunity to review your business listing &ndash\; is it outdated? Missing a description? Are you at the bottom of the page?</span></span></span><br />\n<br />\nA light lunch will be provided.&nbsp\; Please register at <a href="mailto:Marysue@boerne.org?subject=RSVP%20for%20Online%20Training">MarySue@boerne.org</a><br />\n.<br />\n&nbsp\;
LOCATION:Greater Boerne Chamber of Commerce 121 South Main Boerne\, TX 78006
UID:e.187.11650
SEQUENCE:3
DTSTAMP:20260423T040800Z
URL:https://business.boerne.org/events/details/chambermaster-members-training-with-jason-moengen-our-chambermaster-software-consultant-11650
END:VEVENT

END:VCALENDAR
