BEGIN:VCALENDAR
VERSION:2.0
PRODID:-//ChamberMaster//Event Calendar 2.0//EN
METHOD:PUBLISH
X-PUBLISHED-TTL:P3D
REFRESH-INTERVAL:P3D
CALSCALE:GREGORIAN
BEGIN:VEVENT
DTSTART:20240925T160000Z
DTEND:20240925T170000Z
X-MICROSOFT-CDO-ALLDAYEVENT:FALSE
SUMMARY:Chamber Wednesday Leads Group
DESCRIPTION:Learn how you can be part of the Chamber's exclusive Leads Group Program and join with other dedicated Chamber member business professionals to grow and expand your business. The Greater Boerne Chamber of Commerce Leads group fosters business development through regular meetings where each member represents a different industry or industry subset. Members educate themselves about their products/services and pass qualified leads/referrals to each other. \n\nBENEFITS OF LEADS GROUP MEMBERS:\n\n\n	Learn how to pass and receive leads\;\n	Meet and develop strategic business partners\;\n	Gain exposure to like-minded professionals\;\n	Create lifetime connections.\n\n\n\n2 LEADS GROUPS TO CHOOSE FROM:\n\n\n	Wednesday Group (Meets 2nd & 4th Wednesday of every month) from 11 a.m. to 12 Noon\n	Thursday Group (Meets 2nd & 4th Thursday of every month) from 8 to 9 a.m.\n\n\n\n\nPlease email Kylee@boerne.org to see if there is an opening in the group for your business before attending a meeting!
X-ALT-DESC;FMTTYPE=text/html:<p style="background-color: rgb(255\, 255\, 255)\; box-sizing: inherit\; margin: 0px 0px 1em\; color: rgb(117\, 120\, 125)\; font-family: &quot\;Open Sans&quot\;\, sans-serif\; font-size: 16px\;">Learn how you can be part of the Chamber&#39\;s exclusive Leads Group Program and join with other dedicated Chamber member business professionals to grow and expand your business. The Greater Boerne Chamber of Commerce Leads group fosters business development through regular meetings where each member represents a different industry or industry subset. Members educate themselves about their products/services and pass qualified leads/referrals to each other.&nbsp\;</p>\n\n<h4 style="font-weight: normal\; line-height: 1.2\; background-color: rgb(255\, 255\, 255)\; box-sizing: inherit\; color: rgb(67\, 117\, 101)\; margin: 0px\; font-size: 1.5em\; font-family: &quot\;Open Sans&quot\;\, sans-serif\;"><strong style="box-sizing: inherit\;">BENEFITS OF LEADS GROUP MEMBERS:</strong></h4>\n\n<ul style="padding: 0px\; background-color: rgb(255\, 255\, 255)\; box-sizing: inherit\; margin: 0px 0px 30px 31px\; color: rgb(117\, 120\, 125)\; font-family: &quot\;Open Sans&quot\;\, sans-serif\; font-size: 16px\;">\n	<li style="box-sizing: inherit\; padding-left: 7px\;">Learn how to pass and receive leads\;</li>\n	<li style="box-sizing: inherit\; padding-left: 7px\;">Meet and develop strategic business partners\;</li>\n	<li style="box-sizing: inherit\; padding-left: 7px\;">Gain exposure to like-minded professionals\;</li>\n	<li style="box-sizing: inherit\; padding-left: 7px\;">Create lifetime connections.</li>\n</ul>\n\n<div style="color: rgb(51\, 51\, 51)\; font-family: sans-serif\, Arial\, Verdana\, &quot\;Trebuchet MS&quot\;\; font-size: 13px\; box-sizing: inherit\; padding-left: 7px\;">\n<h3 style="font-weight: 400\; line-height: 29px\; box-sizing: inherit\; color: rgb(52\, 135\, 143)\; margin: 0px 0px 15px\; font-size: 20px\; text-transform: uppercase\; letter-spacing: 1.2px\; font-family: &quot\;Open Sans&quot\;\, sans-serif\; background-color: rgb(255\, 255\, 255)\;"><strong style="box-sizing: inherit\;">2 LEADS GROUPS TO CHOOSE FROM:</strong></h3>\n\n<ul style="padding: 0px\; box-sizing: inherit\; margin: 0px 0px 30px 31px\; color: rgb(117\, 120\, 125)\; font-family: &quot\;Open Sans&quot\;\, sans-serif\; font-size: 16px\; background-color: rgb(255\, 255\, 255)\;">\n	<li style="box-sizing: inherit\; padding-left: 7px\;">Wednesday Group (Meets 2nd &amp\; 4th Wednesday of every month) from 11 a.m. to 12 Noon</li>\n	<li style="box-sizing: inherit\; padding-left: 7px\;">Thursday Group (Meets 2nd &amp\; 4th Thursday of every month) from 8 to 9 a.m.</li>\n</ul>\n\n<div style="box-sizing: inherit\; padding-left: 7px\;"><br />\n<span style="color: rgb(117\, 120\, 125)\; font-family: &quot\;Open Sans&quot\;\, sans-serif\; font-size: 16px\; background-color: rgb(255\, 255\, 255)\;">Please email Kylee@boerne.org to see if there is an opening in the group for your business before attending a meeting!</span></div>\n</div>\n
LOCATION:Greater Boerne Chamber of Commerce Boardroom 121 S. Main St. Boerne\, TX 78006
UID:e.187.22063
SEQUENCE:3
DTSTAMP:20260419T192647Z
URL:https://business.boerne.org/events/details/chamber-wednesday-leads-group-09-25-2024-22063
END:VEVENT

END:VCALENDAR
