BEGIN:VCALENDAR
VERSION:2.0
PRODID:-//ChamberMaster//Event Calendar 2.0//EN
METHOD:PUBLISH
X-PUBLISHED-TTL:P3D
REFRESH-INTERVAL:P3D
CALSCALE:GREGORIAN
BEGIN:VEVENT
DTSTART:20241015T143000Z
DTEND:20241015T150000Z
X-MICROSOFT-CDO-ALLDAYEVENT:FALSE
SUMMARY:Chamber of Commerce Day Proclamation
DESCRIPTION:Please join The Greater Boerne Chamber of Commerce as we celebrate National Chamber of Commerce Week! City of Boerne Mayor\, Frank Ritchie\, will be releasing a proclamation proclaiming the week of October 14-18 as Chamber of Commerce Week in Boerne! \n\n\n\nThe proclamation will begin right at 9:30am\, so we ask that you arrive a few minutes early.
X-ALT-DESC;FMTTYPE=text/html:Please join The Greater Boerne Chamber of Commerce as we celebrate National Chamber of Commerce Week! City of Boerne Mayor\, Frank Ritchie\, will be releasing a proclamation proclaiming the week of October 14-18 as Chamber of Commerce Week in Boerne!&nbsp\;<br />\n<br />\nThe proclamation will begin right at 9:30am\, so we ask that you arrive a few minutes early.
LOCATION:City Hall 447 N Main St Boerne\, TX 78006
UID:e.187.28709
SEQUENCE:3
DTSTAMP:20260419T162649Z
URL:https://business.boerne.org/events/details/chamber-of-commerce-day-proclamation-28709
END:VEVENT

END:VCALENDAR
