BEGIN:VCALENDAR
VERSION:2.0
PRODID:-//ChamberMaster//Event Calendar 2.0//EN
METHOD:PUBLISH
X-PUBLISHED-TTL:P3D
REFRESH-INTERVAL:P3D
CALSCALE:GREGORIAN
BEGIN:VEVENT
DTSTART:20170309T140000Z
DTEND:20170309T150000Z
X-MICROSOFT-CDO-ALLDAYEVENT:FALSE
SUMMARY:Chamber Leads Group #1 Meeting
DESCRIPTION:Chamber Leads Group Meeting
X-ALT-DESC;FMTTYPE=text/html:Chamber Leads Group Meeting&nbsp\;
LOCATION:Chamber Conference Room 121 S. Main St.\, Boerne\, TX 78006
UID:e.187.9185
SEQUENCE:3
DTSTAMP:20260423T071411Z
URL:https://business.boerne.org/events/details/chamber-leads-group-1-meeting-03-02-2017-9185
END:VEVENT

END:VCALENDAR
