BEGIN:VCALENDAR
VERSION:2.0
PRODID:-//ChamberMaster//Event Calendar 2.0//EN
METHOD:PUBLISH
X-PUBLISHED-TTL:P3D
REFRESH-INTERVAL:P3D
CALSCALE:GREGORIAN
BEGIN:VEVENT
DTSTART;VALUE=DATE:20240902
DTEND;VALUE=DATE:20240903
TRANSP:TRANSPARENT
X-MICROSOFT-CDO-ALLDAYEVENT:TRUE
SUMMARY:CHAMBER CLOSED: Labor Day
DESCRIPTION:The Greater Boerne Chamber of Commerce will be closed on Monday\, September 2 in observance of Labor Day. The Chamber will reopen on Tuesday\, September 3 at 9:00 am.
X-ALT-DESC;FMTTYPE=text/html:The Greater Boerne Chamber of Commerce will be closed on Monday\, September 2 in observance of Labor Day. The Chamber will reopen on Tuesday\, September 3 at 9:00 am.
LOCATION:
UID:e.187.23791
SEQUENCE:3
DTSTAMP:20260419T180817Z
URL:https://business.boerne.org/events/details/chamber-closed-labor-day-23791
END:VEVENT

END:VCALENDAR
