BEGIN:VCALENDAR
VERSION:2.0
PRODID:-//ChamberMaster//Event Calendar 2.0//EN
METHOD:PUBLISH
X-PUBLISHED-TTL:P3D
REFRESH-INTERVAL:P3D
CALSCALE:GREGORIAN
BEGIN:VEVENT
DTSTART;VALUE=DATE:20250418
DTEND;VALUE=DATE:20250422
TRANSP:TRANSPARENT
X-MICROSOFT-CDO-ALLDAYEVENT:TRUE
SUMMARY:CHAMBER CLOSED: Good Friday & Easter Monday
DESCRIPTION:The Greater Boerne Chamber of Commerce will be closed on Friday\, April 18 and Monday\, April 21 in observance of Good Friday and Easter. The Chamber will reopen on Tuesday\, April 22 at 9:00 am.
X-ALT-DESC;FMTTYPE=text/html:The Greater Boerne Chamber of Commerce will be closed on Friday\, April 18 and Monday\, April 21 in observance of Good Friday and Easter. The Chamber will reopen on Tuesday\, April 22 at 9:00 am.
LOCATION:
UID:e.187.28730
SEQUENCE:3
DTSTAMP:20260419T143216Z
URL:https://business.boerne.org/events/details/chamber-closed-good-friday-easter-monday-28730
END:VEVENT

END:VCALENDAR
