BEGIN:VCALENDAR
VERSION:2.0
PRODID:-//ChamberMaster//Event Calendar 2.0//EN
METHOD:PUBLISH
X-PUBLISHED-TTL:P3D
REFRESH-INTERVAL:P3D
CALSCALE:GREGORIAN
BEGIN:VEVENT
DTSTART:20190222T150000Z
DTEND:20190222T190000Z
X-MICROSOFT-CDO-ALLDAYEVENT:FALSE
SUMMARY:Chamber Board and Staff Retreat
DESCRIPTION:Chamber Board of Directors and Staff Retreat
X-ALT-DESC;FMTTYPE=text/html:Chamber Board of Directors and Staff Retreat
LOCATION:Miralomas Amenities Center 440 State Hwy. 46 W.\, Boerne\, TX 78006
UID:e.187.15830
SEQUENCE:3
DTSTAMP:20260419T191407Z
URL:https://business.boerne.org/events/details/chamber-board-and-staff-retreat-15830
END:VEVENT

END:VCALENDAR
