BEGIN:VCALENDAR
VERSION:2.0
PRODID:-//ChamberMaster//Event Calendar 2.0//EN
METHOD:PUBLISH
X-PUBLISHED-TTL:P3D
REFRESH-INTERVAL:P3D
CALSCALE:GREGORIAN
BEGIN:VEVENT
DTSTART:20181010T160000Z
DTEND:20181010T170000Z
X-MICROSOFT-CDO-ALLDAYEVENT:FALSE
SUMMARY:Chamber Afternoon Leads Group
DESCRIPTION:Chamber Afternoon Leads Group
X-ALT-DESC;FMTTYPE=text/html:Chamber Afternoon Leads Group
LOCATION:Chamber Conference Room 121 S Main St. Boerne\, TX 78006
UID:e.187.13993
SEQUENCE:3
DTSTAMP:20260420T013448Z
URL:https://business.boerne.org/events/details/chamber-afternoon-leads-group-10-10-2018-13993
END:VEVENT

END:VCALENDAR
