BEGIN:VCALENDAR
VERSION:2.0
PRODID:-//ChamberMaster//Event Calendar 2.0//EN
METHOD:PUBLISH
X-PUBLISHED-TTL:P3D
REFRESH-INTERVAL:P3D
CALSCALE:GREGORIAN
BEGIN:VEVENT
DTSTART:20180808T160000Z
DTEND:20180808T170000Z
X-MICROSOFT-CDO-ALLDAYEVENT:FALSE
SUMMARY:Chamber Afternoon Leads Group
DESCRIPTION:Chamber Afternoon Leads Group
X-ALT-DESC;FMTTYPE=text/html:Chamber Afternoon Leads Group
LOCATION:Chamber Conference Room 121 S Main St. Boerne\, TX 78006
UID:e.187.13991
SEQUENCE:3
DTSTAMP:20260420T042412Z
URL:https://business.boerne.org/events/details/chamber-afternoon-leads-group-08-08-2018-13991
END:VEVENT

END:VCALENDAR
