BEGIN:VCALENDAR
VERSION:2.0
PRODID:-//ChamberMaster//Event Calendar 2.0//EN
METHOD:PUBLISH
X-PUBLISHED-TTL:P3D
REFRESH-INTERVAL:P3D
CALSCALE:GREGORIAN
BEGIN:VEVENT
DTSTART:20180619T163000Z
DTEND:20180619T170000Z
X-MICROSOFT-CDO-ALLDAYEVENT:FALSE
SUMMARY:Celebrating our Visionary Partner HEB Plus of Boerne
DESCRIPTION:The Greater Boerne Chamber of Commerce  is excited to announce our first Visionary Partner- Boerne H-E-B Plus! Come join us for a Ribbon Cutting Ceremony to help us celebrate \n\nTo show our appreciation please wear RED  to this special occasion.
X-ALT-DESC;FMTTYPE=text/html:The Greater Boerne Chamber of Commerce&nbsp\; is excited to announce&nbsp\;our first Visionary Partner- Boerne H-E-B Plus! Come join us for a Ribbon Cutting Ceremony to help us celebrate&nbsp\;<br />\nTo show our appreciation please wear RED&nbsp\; to this special occasion.
LOCATION:H-E-B Plus of Boerne 420 W. Bandera Rd. Boerne\, TX 78006
UID:e.187.13929
SEQUENCE:3
DTSTAMP:20260420T074612Z
URL:https://business.boerne.org/events/details/celebrating-our-visionary-partner-heb-plus-of-boerne-13929
END:VEVENT

END:VCALENDAR
