BEGIN:VCALENDAR
VERSION:2.0
PRODID:-//ChamberMaster//Event Calendar 2.0//EN
METHOD:PUBLISH
X-PUBLISHED-TTL:P3D
REFRESH-INTERVAL:P3D
CALSCALE:GREGORIAN
BEGIN:VEVENT
DTSTART:20191207T233000Z
DTEND:20191208T033000Z
X-MICROSOFT-CDO-ALLDAYEVENT:FALSE
SUMMARY:Cavender Chevrolet Parade Party
DESCRIPTION:We are excited to celebrate the 33rd anniversary of the Weihnachts Parade with Cavender Chevrolet! This long-standing Boerne Christmas tradition 2019 includes up to 100 lit entries travel Main Street.\n\n\n\nThe Boerne Chamber is hosting an invitation-only party for the Weihnachts Parade at our offices. Please contact Kim Blohm for more info.
X-ALT-DESC;FMTTYPE=text/html:We are excited to celebrate the 33rd anniversary of the Weihnachts Parade with Cavender Chevrolet! This long-standing Boerne Christmas tradition 2019 includes up to 100 lit entries travel Main Street.<br />\n<br />\nThe Boerne Chamber is hosting an invitation-only party for the Weihnachts Parade at our offices. Please contact Kim Blohm for more info.
LOCATION:The Greater Boerne Chamber of Commerce 121 S. Main St. Boerne\, TX 78006
UID:e.187.17159
SEQUENCE:3
DTSTAMP:20260425T214938Z
URL:https://business.boerne.org/events/details/cavender-chevrolet-parade-party-17159
END:VEVENT

END:VCALENDAR
