BEGIN:VCALENDAR
VERSION:2.0
PRODID:-//ChamberMaster//Event Calendar 2.0//EN
METHOD:PUBLISH
X-PUBLISHED-TTL:P3D
REFRESH-INTERVAL:P3D
CALSCALE:GREGORIAN
BEGIN:VEVENT
DTSTART:20190613T220000Z
DTEND:20190614T000000Z
X-MICROSOFT-CDO-ALLDAYEVENT:FALSE
SUMMARY:CANCELLED: Boerne After 5 Mixer - Presented by Hampton Inn & Suites Boerne
DESCRIPTION:This mixer has been cancelled.
X-ALT-DESC;FMTTYPE=text/html:This mixer has been cancelled.
LOCATION:CANCELLED: Hampton Inn & Suites Boerne 34935 I-10 Boerne\, TX 78006
UID:e.187.16360
SEQUENCE:3
DTSTAMP:20260419T125450Z
URL:https://business.boerne.org/events/details/cancelled-boerne-after-5-mixer-presented-by-hampton-inn-suites-boerne-16360
END:VEVENT

END:VCALENDAR
