BEGIN:VCALENDAR
VERSION:2.0
PRODID:-//ChamberMaster//Event Calendar 2.0//EN
METHOD:PUBLISH
X-PUBLISHED-TTL:P3D
REFRESH-INTERVAL:P3D
CALSCALE:GREGORIAN
BEGIN:VEVENT
DTSTART:20170810T163000Z
DTEND:20170810T170000Z
X-MICROSOFT-CDO-ALLDAYEVENT:FALSE
SUMMARY:Canceled- Ribbon Cutting Ceremony for Bella Sera Italian Restaurant & Pizza
DESCRIPTION:Canceled will reschedule Ribbon Cutting Ceremony for Bella Sera Italian Restaurant & Pizza.
X-ALT-DESC;FMTTYPE=text/html:Canceled will reschedule Ribbon Cutting Ceremony for Bella Sera Italian Restaurant &amp\; Pizza.&nbsp\;
LOCATION:Bella Sera Italian Restaurant & Pizza (map) 812 Main St. Boerne\,TX 78006
UID:e.187.11937
SEQUENCE:3
DTSTAMP:20260423T005956Z
URL:https://business.boerne.org/events/details/canceled-ribbon-cutting-ceremony-for-bella-sera-italian-restaurant-pizza-11937
END:VEVENT

END:VCALENDAR
