BEGIN:VCALENDAR
VERSION:2.0
PRODID:-//ChamberMaster//Event Calendar 2.0//EN
METHOD:PUBLISH
X-PUBLISHED-TTL:P3D
REFRESH-INTERVAL:P3D
CALSCALE:GREGORIAN
BEGIN:VEVENT
DTSTART:20180802T164500Z
DTEND:20180802T181500Z
X-MICROSOFT-CDO-ALLDAYEVENT:FALSE
SUMMARY:Canceled - Government Affairs Council Meeting
DESCRIPTION:Government Affairs Council Meeting\, 1st Thursday of every month\n\n11:45 a.m.\n\nBoerne Chamber Conference Room\n\n121 S. Main Street\, Boerne\, TX  78006
X-ALT-DESC;FMTTYPE=text/html:Government Affairs Council Meeting\, 1st Thursday of every month<br />\n11:45 a.m.<br />\nBoerne Chamber&nbsp\;Conference Room<br />\n121 S. Main Street\,&nbsp\;Boerne\, TX&nbsp\; 78006
LOCATION:Boerne Chamber Conference Room 121 S. Main Street\, Boerne\, TX 78006
UID:e.187.2503
SEQUENCE:3
DTSTAMP:20260420T042924Z
URL:https://business.boerne.org/events/details/canceled-government-affairs-council-meeting-08-02-2018-2503
END:VEVENT

END:VCALENDAR
