BEGIN:VCALENDAR
VERSION:2.0
PRODID:-//ChamberMaster//Event Calendar 2.0//EN
METHOD:PUBLISH
X-PUBLISHED-TTL:P3D
REFRESH-INTERVAL:P3D
CALSCALE:GREGORIAN
BEGIN:VEVENT
DTSTART:20241016T140000Z
DTEND:20241016T180000Z
X-MICROSOFT-CDO-ALLDAYEVENT:FALSE
SUMMARY:Caiden's Hope 2nd Annual Topgolf Charity Fundraiser
DESCRIPTION:Caiden's Hope Foundation is hosting their 2nd Annual Topgolf Charity Fundraiser event on October\, 16\, 2024\, and YOU'RE INVITED! Sponsorships are now available to help them continue their mission of providing hope and support to families with premature and critically ill babies. Let's come together to make a difference in the lives of these precious little ones. Contact Wayne@caidenshope.org or call 713-444-3412 to learn more.
X-ALT-DESC;FMTTYPE=text/html:<span class="xv78j7m" spellcheck="false" style="white-space-collapse: preserve\;">Caiden&#39\;s Hope Foundation</span><span style="white-space-collapse: preserve\;"> is hosting their 2nd Annual Topgolf Charity Fundraiser event on October\, 16\, 2024\, and YOU&#39\;RE INVITED! Sponsorships are now available to help them continue their mission of providing hope and support to families with premature and critically ill babies. Let&#39\;s come together to make a difference in the lives of these precious little ones. Contact Wayne@caidenshope.org or call 713-444-3412 to learn more. </span><span style="white-space-collapse: preserve\;"> </span>
LOCATION:Topgolf San Antonio
UID:e.187.28448
SEQUENCE:3
DTSTAMP:20260419T181309Z
URL:https://business.boerne.org/events/details/caiden-s-hope-2nd-annual-topgolf-charity-fundraiser-28448
END:VEVENT

END:VCALENDAR
