BEGIN:VCALENDAR
VERSION:2.0
PRODID:-//ChamberMaster//Event Calendar 2.0//EN
METHOD:PUBLISH
X-PUBLISHED-TTL:P3D
REFRESH-INTERVAL:P3D
CALSCALE:GREGORIAN
BEGIN:VEVENT
DTSTART:20260318T230000Z
DTEND:20260319T010000Z
X-MICROSOFT-CDO-ALLDAYEVENT:FALSE
SUMMARY:Business Owner Exit Planning: Start with the End in Mind Seminar
DESCRIPTION:Join us for a Business owner exit planning: Start with the end in mind presentation. This presentation is designed to help business owners become familiar with succession planning and steps to take now to prepare for an exit in the future. We have limited seating so please RSVP by March 13th. Dinner will be provided!
X-ALT-DESC;FMTTYPE=text/html:Join us for a Business owner exit planning: Start with the end in mind presentation. This presentation is designed to help business owners become familiar with succession planning and steps to take now to prepare for an exit in the future. We have limited seating so please RSVP by March 13th. Dinner will be provided!
LOCATION:Albi Vite Italian Kitchen Leon Springs 24165 I-10 Unit 433\, San Antonio 78257
UID:e.187.32272
SEQUENCE:3
DTSTAMP:20260420T065502Z
URL:https://business.boerne.org/events/details/business-owner-exit-planning-start-with-the-end-in-mind-seminar-32272
END:VEVENT

END:VCALENDAR
