BEGIN:VCALENDAR
VERSION:2.0
PRODID:-//ChamberMaster//Event Calendar 2.0//EN
METHOD:PUBLISH
X-PUBLISHED-TTL:P3D
REFRESH-INTERVAL:P3D
CALSCALE:GREGORIAN
BEGIN:VEVENT
DTSTART:20170824T220000Z
DTEND:20170825T000000Z
X-MICROSOFT-CDO-ALLDAYEVENT:FALSE
SUMMARY:Business After Hours sponsored by Annie's Apothecary
DESCRIPTION:Come mix and mingle as Annie's Apothecary celebrates their 10 Year Anniversary.
X-ALT-DESC;FMTTYPE=text/html:Come mix and mingle as Annie&#39\;s Apothecary celebrates their 10 Year Anniversary.
LOCATION:Annie's Apothecary 31007 IH 10 W #108 Boerne. TX 78006
UID:e.187.11603
SEQUENCE:3
DTSTAMP:20260422T231721Z
URL:https://business.boerne.org/events/details/business-after-hours-sponsored-by-annie-s-apothecary-11603
END:VEVENT

END:VCALENDAR
