BEGIN:VCALENDAR
VERSION:2.0
PRODID:-//ChamberMaster//Event Calendar 2.0//EN
METHOD:PUBLISH
X-PUBLISHED-TTL:P3D
REFRESH-INTERVAL:P3D
CALSCALE:GREGORIAN
BEGIN:VEVENT
DTSTART:20170413T220000Z
DTEND:20170414T000000Z
X-MICROSOFT-CDO-ALLDAYEVENT:FALSE
SUMMARY:Business After Hours sponsored by Access Storage
DESCRIPTION:Come mix and mingle with your fellow Chamber Members at the Business After Hours Mixer sponsored by Access Storage. (link)
X-ALT-DESC;FMTTYPE=text/html:Come mix and mingle with your fellow Chamber Members at the Business After Hours Mixer sponsored by Access Storage. <a href="http://www.accessstorageboerne.com/">(link)</a>
LOCATION:Access Storage (map) 105 Shooting Club Rd. Boerne\, TX 78006
UID:e.187.11396
SEQUENCE:3
DTSTAMP:20260423T055002Z
URL:https://business.boerne.org/events/details/business-after-hours-sponsored-by-access-storage-11396
END:VEVENT

END:VCALENDAR
