BEGIN:VCALENDAR
VERSION:2.0
PRODID:-//ChamberMaster//Event Calendar 2.0//EN
METHOD:PUBLISH
X-PUBLISHED-TTL:P3D
REFRESH-INTERVAL:P3D
CALSCALE:GREGORIAN
BEGIN:VEVENT
DTSTART:20170727T220000Z
DTEND:20170728T000000Z
X-MICROSOFT-CDO-ALLDAYEVENT:FALSE
SUMMARY:Business After Hours Networking Mixer - University Bowl
DESCRIPTION:Come mix and mingle at the Business After Hours Networking Mixer at University Bowl
X-ALT-DESC;FMTTYPE=text/html:Come mix and mingle at the Business After Hours Networking Mixer at University Bowl
LOCATION:University Bowl 12332 IH-10 West San Antonio\, TX 78230
UID:e.187.11586
SEQUENCE:3
DTSTAMP:20260423T022804Z
URL:https://business.boerne.org/events/details/business-after-hours-networking-mixer-university-bowl-11586
END:VEVENT

END:VCALENDAR
